BEGIN:VCALENDAR
VERSION:2.0
PRODID:-//Generations Boutique &amp; Art Studio - ECPv6.15.17//NONSGML v1.0//EN
CALSCALE:GREGORIAN
METHOD:PUBLISH
X-WR-CALNAME:Generations Boutique &amp; Art Studio
X-ORIGINAL-URL:https://generationsbrewer.com
X-WR-CALDESC:Events for Generations Boutique &amp; Art Studio
REFRESH-INTERVAL;VALUE=DURATION:PT1H
X-Robots-Tag:noindex
X-PUBLISHED-TTL:PT1H
BEGIN:VTIMEZONE
TZID:America/Chicago
BEGIN:DAYLIGHT
TZOFFSETFROM:-0600
TZOFFSETTO:-0500
TZNAME:CDT
DTSTART:20220313T080000
END:DAYLIGHT
BEGIN:STANDARD
TZOFFSETFROM:-0500
TZOFFSETTO:-0600
TZNAME:CST
DTSTART:20221106T070000
END:STANDARD
BEGIN:DAYLIGHT
TZOFFSETFROM:-0600
TZOFFSETTO:-0500
TZNAME:CDT
DTSTART:20230312T080000
END:DAYLIGHT
BEGIN:STANDARD
TZOFFSETFROM:-0500
TZOFFSETTO:-0600
TZNAME:CST
DTSTART:20231105T070000
END:STANDARD
BEGIN:DAYLIGHT
TZOFFSETFROM:-0600
TZOFFSETTO:-0500
TZNAME:CDT
DTSTART:20240310T080000
END:DAYLIGHT
BEGIN:STANDARD
TZOFFSETFROM:-0500
TZOFFSETTO:-0600
TZNAME:CST
DTSTART:20241103T070000
END:STANDARD
END:VTIMEZONE
BEGIN:VEVENT
DTSTART;TZID=America/Chicago:20230924T140000
DTEND;TZID=America/Chicago:20230924T160000
DTSTAMP:20260419T212248
CREATED:20230622T165219Z
LAST-MODIFIED:20230714T161557Z
UID:10000999-1695564000-1695571200@generationsbrewer.com
SUMMARY:Zumba Block Party! Shop Eat & Sip
DESCRIPTION:ZUMBA\, SHOP\, EAT & SIP\n@ Generations Boutique & Art Studio!\n\n\nWhat could be more fun than ZUMBA\, EATIN\, SIPPIN & SHOPPIN??\n\nJoin Sunshine for an outdoor dance fitness class at Generation’s Boutique & Art Studio! We’ll enjoy fitness fun at this outdoor block party\, then we’ll take the fun inside to shop\, sip and enjoy a potluck meal together!! A glass of pineapple mimosa will be included\, as well as other non alcoholic options.\n\nPlease bring your favorite snack or dish\, we love sharing a meal and hanging out together!\n\nYou’ll also receive 20% off your total purchases STOREWIDE at Generation’s Boutique!! Try on your favorite clothes and get fashion advice from all your tribe besties!!! It’ll be an afternoon on fun and great memories!\n\nReservations Required /non-refundable / limited availability. $19.99\n\nBook Now
URL:https://generationsbrewer.com/event/zumba-block-party/
LOCATION:Generations Boutique & Art Studio\, 153 State St.\, Brewer\, ME\, 04412\, United States
ATTACH;FMTTYPE=image/jpeg:https://generationsbrewer.com/wp-content/uploads/2023/06/block-party.jpg
ORGANIZER;CN="Generations Boutique & Art Studio":MAILTO:generations04412@gmail.com
END:VEVENT
BEGIN:VEVENT
DTSTART;TZID=America/Chicago:20230402T140000
DTEND;TZID=America/Chicago:20230402T170000
DTSTAMP:20260419T212248
CREATED:20230304T141858Z
LAST-MODIFIED:20230304T142815Z
UID:10000921-1680444000-1680454800@generationsbrewer.com
SUMMARY:Paint & Line Dance Potluck Social at Sunshine's Fitness Studio
DESCRIPTION:This is a special event taking place at Sunshine’s Fitness Studio at the Bangor Mall! \nGenerations and Sunshine’s are bringing you an afternoon of fun and entertainment\, on Sunday\, April 2nd at 2PM \nBook Now\nWe’ll start off with the Round Robin Painting game! Each person gets a canvas\, brushes\, paints and will start painting using a theme. Every 5 minutes\, you are aske to move to the seat to your right\, to the next person’s canvas. We’ll share lots of laughs and by the time you make it all the way back to your original painting\, you’ll be surprised what it has evolved into! You’ll have a super fun painting to take home. \nThen.. we’ll tear it up on the dance floor doing all the lastest line dances we’ve learned in Zumba class the weeks leading up to this event. If you haven’t learned any of the dances ahead of time\, no worries! Sunshine has designed this class so anyone can attend\, learn as you go and make up your own dance moves if you want! \nThen\, we’ll fill our souls will delicious food and make amazing memories as we share a Pot Luck meal together. \n**Tickets are non-refundable. If you’re unable to attend\, you may transfer your ticket to another person for the same event. \n**Pot Lucks are most fun when everyone brings a little something to share. It is most appreciated. \n**You do not need to be a “Tribe Member” to attend. We have very warm hearts and wide open arms to the community
URL:https://generationsbrewer.com/event/paint-line-dance-potluck-social/
LOCATION:Sunshine’s Fitness Studio\, 663 Stillwater Ave\, Bangor\, ME\, 04401\, United States
ATTACH;FMTTYPE=image/jpeg:https://generationsbrewer.com/wp-content/uploads/2023/03/line-dance.jpg
ORGANIZER;CN="Sunshine's Fitness Studio":MAILTO:sunshinesfitnessstudio@gmail.com
END:VEVENT
END:VCALENDAR