BEGIN:VCALENDAR
VERSION:2.0
PRODID:-//Generations Boutique &amp; Art Studio - ECPv6.15.17//NONSGML v1.0//EN
CALSCALE:GREGORIAN
METHOD:PUBLISH
X-ORIGINAL-URL:https://generationsbrewer.com
X-WR-CALDESC:Events for Generations Boutique &amp; Art Studio
REFRESH-INTERVAL;VALUE=DURATION:PT1H
X-Robots-Tag:noindex
X-PUBLISHED-TTL:PT1H
BEGIN:VTIMEZONE
TZID:America/Chicago
BEGIN:DAYLIGHT
TZOFFSETFROM:-0600
TZOFFSETTO:-0500
TZNAME:CDT
DTSTART:20180311T080000
END:DAYLIGHT
BEGIN:STANDARD
TZOFFSETFROM:-0500
TZOFFSETTO:-0600
TZNAME:CST
DTSTART:20181104T070000
END:STANDARD
BEGIN:DAYLIGHT
TZOFFSETFROM:-0600
TZOFFSETTO:-0500
TZNAME:CDT
DTSTART:20190310T080000
END:DAYLIGHT
BEGIN:STANDARD
TZOFFSETFROM:-0500
TZOFFSETTO:-0600
TZNAME:CST
DTSTART:20191103T070000
END:STANDARD
BEGIN:DAYLIGHT
TZOFFSETFROM:-0600
TZOFFSETTO:-0500
TZNAME:CDT
DTSTART:20200308T080000
END:DAYLIGHT
BEGIN:STANDARD
TZOFFSETFROM:-0500
TZOFFSETTO:-0600
TZNAME:CST
DTSTART:20201101T070000
END:STANDARD
BEGIN:DAYLIGHT
TZOFFSETFROM:-0600
TZOFFSETTO:-0500
TZNAME:CDT
DTSTART:20210314T080000
END:DAYLIGHT
BEGIN:STANDARD
TZOFFSETFROM:-0500
TZOFFSETTO:-0600
TZNAME:CST
DTSTART:20211107T070000
END:STANDARD
BEGIN:DAYLIGHT
TZOFFSETFROM:-0600
TZOFFSETTO:-0500
TZNAME:CDT
DTSTART:20220313T080000
END:DAYLIGHT
BEGIN:STANDARD
TZOFFSETFROM:-0500
TZOFFSETTO:-0600
TZNAME:CST
DTSTART:20221106T070000
END:STANDARD
BEGIN:DAYLIGHT
TZOFFSETFROM:-0600
TZOFFSETTO:-0500
TZNAME:CDT
DTSTART:20230312T080000
END:DAYLIGHT
BEGIN:STANDARD
TZOFFSETFROM:-0500
TZOFFSETTO:-0600
TZNAME:CST
DTSTART:20231105T070000
END:STANDARD
BEGIN:DAYLIGHT
TZOFFSETFROM:-0600
TZOFFSETTO:-0500
TZNAME:CDT
DTSTART:20240310T080000
END:DAYLIGHT
BEGIN:STANDARD
TZOFFSETFROM:-0500
TZOFFSETTO:-0600
TZNAME:CST
DTSTART:20241103T070000
END:STANDARD
END:VTIMEZONE
BEGIN:VEVENT
DTSTART;TZID=America/Chicago:20230314T173000
DTEND;TZID=America/Chicago:20230314T200000
DTSTAMP:20260420T224303
CREATED:20230215T185021Z
LAST-MODIFIED:20230215T185131Z
UID:10000910-1678815000-1678824000@generationsbrewer.com
SUMMARY:Private Event
DESCRIPTION:The studio is booked for a private party. If you are interested in booking an event in the studio\, please email generations04412@gmail.com or call 207-989-9003
URL:https://generationsbrewer.com/event/private-event-43/
LOCATION:Generations Boutique & Art Studio\, 153 State St.\, Brewer\, ME\, 04412\, United States
ATTACH;FMTTYPE=image/jpeg:https://generationsbrewer.com/wp-content/uploads/2022/02/private-event-pic.jpg
END:VEVENT
BEGIN:VEVENT
DTSTART;TZID=America/Chicago:20191216T160000
DTEND;TZID=America/Chicago:20191216T180000
DTSTAMP:20260420T224303
CREATED:20191210T025014Z
LAST-MODIFIED:20200107T141058Z
UID:10000473-1576512000-1576519200@generationsbrewer.com
SUMMARY:Frozen Forest Painting
DESCRIPTION:You are registering for one seat for Frozen Forest Painting on December 16th @ 4pm. Approx. 16″ x 35″ on metal.
URL:https://generationsbrewer.com/event/frozen-forest-painting/
LOCATION:Generations Boutique\, 516 Greene Ave\, Allouez\, WI\, 54301\, United States
ATTACH;FMTTYPE=image/jpeg:https://generationsbrewer.com/wp-content/uploads/2019/12/Frozen-Forest.jpg
END:VEVENT
BEGIN:VEVENT
DTSTART;TZID=America/Chicago:20191211T180000
DTEND;TZID=America/Chicago:20191211T190000
DTSTAMP:20260420T224303
CREATED:20191211T201551Z
LAST-MODIFIED:20191226T181428Z
UID:10000476-1576087200-1576090800@generationsbrewer.com
SUMMARY:Private Party For Packerland Websites
DESCRIPTION:Book Now!\n\n\n\nYou are registering for one seat for Packerland Website’s private party on December 11th @ 6pm. \n\n\n\nThese are additional Christmas/Holiday/winter signs to choose from. 
URL:https://generationsbrewer.com/event/private-party-for-packerland-websites/
LOCATION:Generations Boutique\, 516 Greene Ave\, Allouez\, WI\, 54301\, United States
ATTACH;FMTTYPE=image/jpeg:https://generationsbrewer.com/wp-content/uploads/2019/12/private-party.jpg
END:VEVENT
END:VCALENDAR