BEGIN:VCALENDAR
VERSION:2.0
PRODID:-//Generations Boutique &amp; Art Studio - ECPv6.15.17//NONSGML v1.0//EN
CALSCALE:GREGORIAN
METHOD:PUBLISH
X-WR-CALNAME:Generations Boutique &amp; Art Studio
X-ORIGINAL-URL:https://generationsbrewer.com
X-WR-CALDESC:Events for Generations Boutique &amp; Art Studio
REFRESH-INTERVAL;VALUE=DURATION:PT1H
X-Robots-Tag:noindex
X-PUBLISHED-TTL:PT1H
BEGIN:VTIMEZONE
TZID:America/Chicago
BEGIN:DAYLIGHT
TZOFFSETFROM:-0600
TZOFFSETTO:-0500
TZNAME:CDT
DTSTART:20260308T080000
END:DAYLIGHT
BEGIN:STANDARD
TZOFFSETFROM:-0500
TZOFFSETTO:-0600
TZNAME:CST
DTSTART:20261101T070000
END:STANDARD
BEGIN:DAYLIGHT
TZOFFSETFROM:-0600
TZOFFSETTO:-0500
TZNAME:CDT
DTSTART:20270314T080000
END:DAYLIGHT
BEGIN:STANDARD
TZOFFSETFROM:-0500
TZOFFSETTO:-0600
TZNAME:CST
DTSTART:20271107T070000
END:STANDARD
BEGIN:DAYLIGHT
TZOFFSETFROM:-0600
TZOFFSETTO:-0500
TZNAME:CDT
DTSTART:20280312T080000
END:DAYLIGHT
BEGIN:STANDARD
TZOFFSETFROM:-0500
TZOFFSETTO:-0600
TZNAME:CST
DTSTART:20281105T070000
END:STANDARD
END:VTIMEZONE
BEGIN:VEVENT
DTSTART;TZID=America/Chicago:20270101T110000
DTEND;TZID=America/Chicago:20270101T170000
DTSTAMP:20260422T064817
CREATED:20260406T194308Z
LAST-MODIFIED:20260406T194308Z
UID:10003518-1798801200-1798822800@generationsbrewer.com
SUMMARY:Walk In Ceramics Open Studio
DESCRIPTION:Come on in for Ceramics Open Studio from 11-5. You can paint ANY ceramic we have in stock. No tickets needed for this event\, just pop in! Every Tuesday through Friday. \nCeramic prices average $10 and up. The price includes studio time\, paints\, supplies and basic Mod Podge for sealing (High Gloss glaze available for $2). You get to finish and take home your piece all in one session! \nWe have something everyone in the family. Plan to come in at least 2 hours before closing to have plenty of time for paints and glazes to dry. \nFeel free bring some snacks and beverages and get ready to paint and have fun in a relaxing\, safe environment.
URL:https://generationsbrewer.com/event/walk-in-ceramics-open-studio-2-2-2-2-2-2-2-2-2-2-2-3-2-2-2-2-2-2-2/2027-01-01/
LOCATION:Generations Boutique & Art Studio\, 153 State St.\, Brewer\, ME\, 04412\, United States
ATTACH;FMTTYPE=image/jpeg:https://generationsbrewer.com/wp-content/uploads/2024/04/image0-1.jpeg
ORGANIZER;CN="Generations Boutique & Art Studio":MAILTO:generations04412@gmail.com
END:VEVENT
BEGIN:VEVENT
DTSTART;TZID=America/Chicago:20270105T110000
DTEND;TZID=America/Chicago:20270105T170000
DTSTAMP:20260422T064817
CREATED:20260406T194308Z
LAST-MODIFIED:20260406T194308Z
UID:10003519-1799146800-1799168400@generationsbrewer.com
SUMMARY:Walk In Ceramics Open Studio
DESCRIPTION:Come on in for Ceramics Open Studio from 11-5. You can paint ANY ceramic we have in stock. No tickets needed for this event\, just pop in! Every Tuesday through Friday. \nCeramic prices average $10 and up. The price includes studio time\, paints\, supplies and basic Mod Podge for sealing (High Gloss glaze available for $2). You get to finish and take home your piece all in one session! \nWe have something everyone in the family. Plan to come in at least 2 hours before closing to have plenty of time for paints and glazes to dry. \nFeel free bring some snacks and beverages and get ready to paint and have fun in a relaxing\, safe environment.
URL:https://generationsbrewer.com/event/walk-in-ceramics-open-studio-2-2-2-2-2-2-2-2-2-2-2-3-2-2-2-2-2-2-2/2027-01-05/
LOCATION:Generations Boutique & Art Studio\, 153 State St.\, Brewer\, ME\, 04412\, United States
ATTACH;FMTTYPE=image/jpeg:https://generationsbrewer.com/wp-content/uploads/2024/04/image0-1.jpeg
ORGANIZER;CN="Generations Boutique & Art Studio":MAILTO:generations04412@gmail.com
END:VEVENT
BEGIN:VEVENT
DTSTART;TZID=America/Chicago:20270106T110000
DTEND;TZID=America/Chicago:20270106T170000
DTSTAMP:20260422T064817
CREATED:20260406T194308Z
LAST-MODIFIED:20260406T194308Z
UID:10003520-1799233200-1799254800@generationsbrewer.com
SUMMARY:Walk In Ceramics Open Studio
DESCRIPTION:Come on in for Ceramics Open Studio from 11-5. You can paint ANY ceramic we have in stock. No tickets needed for this event\, just pop in! Every Tuesday through Friday. \nCeramic prices average $10 and up. The price includes studio time\, paints\, supplies and basic Mod Podge for sealing (High Gloss glaze available for $2). You get to finish and take home your piece all in one session! \nWe have something everyone in the family. Plan to come in at least 2 hours before closing to have plenty of time for paints and glazes to dry. \nFeel free bring some snacks and beverages and get ready to paint and have fun in a relaxing\, safe environment.
URL:https://generationsbrewer.com/event/walk-in-ceramics-open-studio-2-2-2-2-2-2-2-2-2-2-2-3-2-2-2-2-2-2-2/2027-01-06/
LOCATION:Generations Boutique & Art Studio\, 153 State St.\, Brewer\, ME\, 04412\, United States
ATTACH;FMTTYPE=image/jpeg:https://generationsbrewer.com/wp-content/uploads/2024/04/image0-1.jpeg
ORGANIZER;CN="Generations Boutique & Art Studio":MAILTO:generations04412@gmail.com
END:VEVENT
BEGIN:VEVENT
DTSTART;TZID=America/Chicago:20270107T110000
DTEND;TZID=America/Chicago:20270107T170000
DTSTAMP:20260422T064817
CREATED:20260406T194308Z
LAST-MODIFIED:20260406T194308Z
UID:10003521-1799319600-1799341200@generationsbrewer.com
SUMMARY:Walk In Ceramics Open Studio
DESCRIPTION:Come on in for Ceramics Open Studio from 11-5. You can paint ANY ceramic we have in stock. No tickets needed for this event\, just pop in! Every Tuesday through Friday. \nCeramic prices average $10 and up. The price includes studio time\, paints\, supplies and basic Mod Podge for sealing (High Gloss glaze available for $2). You get to finish and take home your piece all in one session! \nWe have something everyone in the family. Plan to come in at least 2 hours before closing to have plenty of time for paints and glazes to dry. \nFeel free bring some snacks and beverages and get ready to paint and have fun in a relaxing\, safe environment.
URL:https://generationsbrewer.com/event/walk-in-ceramics-open-studio-2-2-2-2-2-2-2-2-2-2-2-3-2-2-2-2-2-2-2/2027-01-07/
LOCATION:Generations Boutique & Art Studio\, 153 State St.\, Brewer\, ME\, 04412\, United States
ATTACH;FMTTYPE=image/jpeg:https://generationsbrewer.com/wp-content/uploads/2024/04/image0-1.jpeg
ORGANIZER;CN="Generations Boutique & Art Studio":MAILTO:generations04412@gmail.com
END:VEVENT
BEGIN:VEVENT
DTSTART;TZID=America/Chicago:20270108T110000
DTEND;TZID=America/Chicago:20270108T170000
DTSTAMP:20260422T064817
CREATED:20260406T194308Z
LAST-MODIFIED:20260406T194308Z
UID:10003522-1799406000-1799427600@generationsbrewer.com
SUMMARY:Walk In Ceramics Open Studio
DESCRIPTION:Come on in for Ceramics Open Studio from 11-5. You can paint ANY ceramic we have in stock. No tickets needed for this event\, just pop in! Every Tuesday through Friday. \nCeramic prices average $10 and up. The price includes studio time\, paints\, supplies and basic Mod Podge for sealing (High Gloss glaze available for $2). You get to finish and take home your piece all in one session! \nWe have something everyone in the family. Plan to come in at least 2 hours before closing to have plenty of time for paints and glazes to dry. \nFeel free bring some snacks and beverages and get ready to paint and have fun in a relaxing\, safe environment.
URL:https://generationsbrewer.com/event/walk-in-ceramics-open-studio-2-2-2-2-2-2-2-2-2-2-2-3-2-2-2-2-2-2-2/2027-01-08/
LOCATION:Generations Boutique & Art Studio\, 153 State St.\, Brewer\, ME\, 04412\, United States
ATTACH;FMTTYPE=image/jpeg:https://generationsbrewer.com/wp-content/uploads/2024/04/image0-1.jpeg
ORGANIZER;CN="Generations Boutique & Art Studio":MAILTO:generations04412@gmail.com
END:VEVENT
BEGIN:VEVENT
DTSTART;TZID=America/Chicago:20270112T110000
DTEND;TZID=America/Chicago:20270112T170000
DTSTAMP:20260422T064817
CREATED:20260406T194308Z
LAST-MODIFIED:20260406T194308Z
UID:10003523-1799751600-1799773200@generationsbrewer.com
SUMMARY:Walk In Ceramics Open Studio
DESCRIPTION:Come on in for Ceramics Open Studio from 11-5. You can paint ANY ceramic we have in stock. No tickets needed for this event\, just pop in! Every Tuesday through Friday. \nCeramic prices average $10 and up. The price includes studio time\, paints\, supplies and basic Mod Podge for sealing (High Gloss glaze available for $2). You get to finish and take home your piece all in one session! \nWe have something everyone in the family. Plan to come in at least 2 hours before closing to have plenty of time for paints and glazes to dry. \nFeel free bring some snacks and beverages and get ready to paint and have fun in a relaxing\, safe environment.
URL:https://generationsbrewer.com/event/walk-in-ceramics-open-studio-2-2-2-2-2-2-2-2-2-2-2-3-2-2-2-2-2-2-2/2027-01-12/
LOCATION:Generations Boutique & Art Studio\, 153 State St.\, Brewer\, ME\, 04412\, United States
ATTACH;FMTTYPE=image/jpeg:https://generationsbrewer.com/wp-content/uploads/2024/04/image0-1.jpeg
ORGANIZER;CN="Generations Boutique & Art Studio":MAILTO:generations04412@gmail.com
END:VEVENT
BEGIN:VEVENT
DTSTART;TZID=America/Chicago:20270113T110000
DTEND;TZID=America/Chicago:20270113T170000
DTSTAMP:20260422T064817
CREATED:20260406T194308Z
LAST-MODIFIED:20260406T194308Z
UID:10003524-1799838000-1799859600@generationsbrewer.com
SUMMARY:Walk In Ceramics Open Studio
DESCRIPTION:Come on in for Ceramics Open Studio from 11-5. You can paint ANY ceramic we have in stock. No tickets needed for this event\, just pop in! Every Tuesday through Friday. \nCeramic prices average $10 and up. The price includes studio time\, paints\, supplies and basic Mod Podge for sealing (High Gloss glaze available for $2). You get to finish and take home your piece all in one session! \nWe have something everyone in the family. Plan to come in at least 2 hours before closing to have plenty of time for paints and glazes to dry. \nFeel free bring some snacks and beverages and get ready to paint and have fun in a relaxing\, safe environment.
URL:https://generationsbrewer.com/event/walk-in-ceramics-open-studio-2-2-2-2-2-2-2-2-2-2-2-3-2-2-2-2-2-2-2/2027-01-13/
LOCATION:Generations Boutique & Art Studio\, 153 State St.\, Brewer\, ME\, 04412\, United States
ATTACH;FMTTYPE=image/jpeg:https://generationsbrewer.com/wp-content/uploads/2024/04/image0-1.jpeg
ORGANIZER;CN="Generations Boutique & Art Studio":MAILTO:generations04412@gmail.com
END:VEVENT
BEGIN:VEVENT
DTSTART;TZID=America/Chicago:20270114T110000
DTEND;TZID=America/Chicago:20270114T170000
DTSTAMP:20260422T064817
CREATED:20260406T194308Z
LAST-MODIFIED:20260406T194308Z
UID:10003525-1799924400-1799946000@generationsbrewer.com
SUMMARY:Walk In Ceramics Open Studio
DESCRIPTION:Come on in for Ceramics Open Studio from 11-5. You can paint ANY ceramic we have in stock. No tickets needed for this event\, just pop in! Every Tuesday through Friday. \nCeramic prices average $10 and up. The price includes studio time\, paints\, supplies and basic Mod Podge for sealing (High Gloss glaze available for $2). You get to finish and take home your piece all in one session! \nWe have something everyone in the family. Plan to come in at least 2 hours before closing to have plenty of time for paints and glazes to dry. \nFeel free bring some snacks and beverages and get ready to paint and have fun in a relaxing\, safe environment.
URL:https://generationsbrewer.com/event/walk-in-ceramics-open-studio-2-2-2-2-2-2-2-2-2-2-2-3-2-2-2-2-2-2-2/2027-01-14/
LOCATION:Generations Boutique & Art Studio\, 153 State St.\, Brewer\, ME\, 04412\, United States
ATTACH;FMTTYPE=image/jpeg:https://generationsbrewer.com/wp-content/uploads/2024/04/image0-1.jpeg
ORGANIZER;CN="Generations Boutique & Art Studio":MAILTO:generations04412@gmail.com
END:VEVENT
BEGIN:VEVENT
DTSTART;TZID=America/Chicago:20270115T110000
DTEND;TZID=America/Chicago:20270115T170000
DTSTAMP:20260422T064817
CREATED:20260406T194308Z
LAST-MODIFIED:20260406T194308Z
UID:10003526-1800010800-1800032400@generationsbrewer.com
SUMMARY:Walk In Ceramics Open Studio
DESCRIPTION:Come on in for Ceramics Open Studio from 11-5. You can paint ANY ceramic we have in stock. No tickets needed for this event\, just pop in! Every Tuesday through Friday. \nCeramic prices average $10 and up. The price includes studio time\, paints\, supplies and basic Mod Podge for sealing (High Gloss glaze available for $2). You get to finish and take home your piece all in one session! \nWe have something everyone in the family. Plan to come in at least 2 hours before closing to have plenty of time for paints and glazes to dry. \nFeel free bring some snacks and beverages and get ready to paint and have fun in a relaxing\, safe environment.
URL:https://generationsbrewer.com/event/walk-in-ceramics-open-studio-2-2-2-2-2-2-2-2-2-2-2-3-2-2-2-2-2-2-2/2027-01-15/
LOCATION:Generations Boutique & Art Studio\, 153 State St.\, Brewer\, ME\, 04412\, United States
ATTACH;FMTTYPE=image/jpeg:https://generationsbrewer.com/wp-content/uploads/2024/04/image0-1.jpeg
ORGANIZER;CN="Generations Boutique & Art Studio":MAILTO:generations04412@gmail.com
END:VEVENT
BEGIN:VEVENT
DTSTART;TZID=America/Chicago:20270119T110000
DTEND;TZID=America/Chicago:20270119T170000
DTSTAMP:20260422T064817
CREATED:20260406T194308Z
LAST-MODIFIED:20260406T194308Z
UID:10003527-1800356400-1800378000@generationsbrewer.com
SUMMARY:Walk In Ceramics Open Studio
DESCRIPTION:Come on in for Ceramics Open Studio from 11-5. You can paint ANY ceramic we have in stock. No tickets needed for this event\, just pop in! Every Tuesday through Friday. \nCeramic prices average $10 and up. The price includes studio time\, paints\, supplies and basic Mod Podge for sealing (High Gloss glaze available for $2). You get to finish and take home your piece all in one session! \nWe have something everyone in the family. Plan to come in at least 2 hours before closing to have plenty of time for paints and glazes to dry. \nFeel free bring some snacks and beverages and get ready to paint and have fun in a relaxing\, safe environment.
URL:https://generationsbrewer.com/event/walk-in-ceramics-open-studio-2-2-2-2-2-2-2-2-2-2-2-3-2-2-2-2-2-2-2/2027-01-19/
LOCATION:Generations Boutique & Art Studio\, 153 State St.\, Brewer\, ME\, 04412\, United States
ATTACH;FMTTYPE=image/jpeg:https://generationsbrewer.com/wp-content/uploads/2024/04/image0-1.jpeg
ORGANIZER;CN="Generations Boutique & Art Studio":MAILTO:generations04412@gmail.com
END:VEVENT
BEGIN:VEVENT
DTSTART;TZID=America/Chicago:20270120T110000
DTEND;TZID=America/Chicago:20270120T170000
DTSTAMP:20260422T064817
CREATED:20260406T194308Z
LAST-MODIFIED:20260406T194308Z
UID:10003528-1800442800-1800464400@generationsbrewer.com
SUMMARY:Walk In Ceramics Open Studio
DESCRIPTION:Come on in for Ceramics Open Studio from 11-5. You can paint ANY ceramic we have in stock. No tickets needed for this event\, just pop in! Every Tuesday through Friday. \nCeramic prices average $10 and up. The price includes studio time\, paints\, supplies and basic Mod Podge for sealing (High Gloss glaze available for $2). You get to finish and take home your piece all in one session! \nWe have something everyone in the family. Plan to come in at least 2 hours before closing to have plenty of time for paints and glazes to dry. \nFeel free bring some snacks and beverages and get ready to paint and have fun in a relaxing\, safe environment.
URL:https://generationsbrewer.com/event/walk-in-ceramics-open-studio-2-2-2-2-2-2-2-2-2-2-2-3-2-2-2-2-2-2-2/2027-01-20/
LOCATION:Generations Boutique & Art Studio\, 153 State St.\, Brewer\, ME\, 04412\, United States
ATTACH;FMTTYPE=image/jpeg:https://generationsbrewer.com/wp-content/uploads/2024/04/image0-1.jpeg
ORGANIZER;CN="Generations Boutique & Art Studio":MAILTO:generations04412@gmail.com
END:VEVENT
BEGIN:VEVENT
DTSTART;TZID=America/Chicago:20270121T110000
DTEND;TZID=America/Chicago:20270121T170000
DTSTAMP:20260422T064817
CREATED:20260406T194308Z
LAST-MODIFIED:20260406T194308Z
UID:10003529-1800529200-1800550800@generationsbrewer.com
SUMMARY:Walk In Ceramics Open Studio
DESCRIPTION:Come on in for Ceramics Open Studio from 11-5. You can paint ANY ceramic we have in stock. No tickets needed for this event\, just pop in! Every Tuesday through Friday. \nCeramic prices average $10 and up. The price includes studio time\, paints\, supplies and basic Mod Podge for sealing (High Gloss glaze available for $2). You get to finish and take home your piece all in one session! \nWe have something everyone in the family. Plan to come in at least 2 hours before closing to have plenty of time for paints and glazes to dry. \nFeel free bring some snacks and beverages and get ready to paint and have fun in a relaxing\, safe environment.
URL:https://generationsbrewer.com/event/walk-in-ceramics-open-studio-2-2-2-2-2-2-2-2-2-2-2-3-2-2-2-2-2-2-2/2027-01-21/
LOCATION:Generations Boutique & Art Studio\, 153 State St.\, Brewer\, ME\, 04412\, United States
ATTACH;FMTTYPE=image/jpeg:https://generationsbrewer.com/wp-content/uploads/2024/04/image0-1.jpeg
ORGANIZER;CN="Generations Boutique & Art Studio":MAILTO:generations04412@gmail.com
END:VEVENT
BEGIN:VEVENT
DTSTART;TZID=America/Chicago:20270122T110000
DTEND;TZID=America/Chicago:20270122T170000
DTSTAMP:20260422T064817
CREATED:20260406T194308Z
LAST-MODIFIED:20260406T194308Z
UID:10003530-1800615600-1800637200@generationsbrewer.com
SUMMARY:Walk In Ceramics Open Studio
DESCRIPTION:Come on in for Ceramics Open Studio from 11-5. You can paint ANY ceramic we have in stock. No tickets needed for this event\, just pop in! Every Tuesday through Friday. \nCeramic prices average $10 and up. The price includes studio time\, paints\, supplies and basic Mod Podge for sealing (High Gloss glaze available for $2). You get to finish and take home your piece all in one session! \nWe have something everyone in the family. Plan to come in at least 2 hours before closing to have plenty of time for paints and glazes to dry. \nFeel free bring some snacks and beverages and get ready to paint and have fun in a relaxing\, safe environment.
URL:https://generationsbrewer.com/event/walk-in-ceramics-open-studio-2-2-2-2-2-2-2-2-2-2-2-3-2-2-2-2-2-2-2/2027-01-22/
LOCATION:Generations Boutique & Art Studio\, 153 State St.\, Brewer\, ME\, 04412\, United States
ATTACH;FMTTYPE=image/jpeg:https://generationsbrewer.com/wp-content/uploads/2024/04/image0-1.jpeg
ORGANIZER;CN="Generations Boutique & Art Studio":MAILTO:generations04412@gmail.com
END:VEVENT
BEGIN:VEVENT
DTSTART;TZID=America/Chicago:20270126T110000
DTEND;TZID=America/Chicago:20270126T170000
DTSTAMP:20260422T064817
CREATED:20260406T194308Z
LAST-MODIFIED:20260406T194308Z
UID:10003531-1800961200-1800982800@generationsbrewer.com
SUMMARY:Walk In Ceramics Open Studio
DESCRIPTION:Come on in for Ceramics Open Studio from 11-5. You can paint ANY ceramic we have in stock. No tickets needed for this event\, just pop in! Every Tuesday through Friday. \nCeramic prices average $10 and up. The price includes studio time\, paints\, supplies and basic Mod Podge for sealing (High Gloss glaze available for $2). You get to finish and take home your piece all in one session! \nWe have something everyone in the family. Plan to come in at least 2 hours before closing to have plenty of time for paints and glazes to dry. \nFeel free bring some snacks and beverages and get ready to paint and have fun in a relaxing\, safe environment.
URL:https://generationsbrewer.com/event/walk-in-ceramics-open-studio-2-2-2-2-2-2-2-2-2-2-2-3-2-2-2-2-2-2-2/2027-01-26/
LOCATION:Generations Boutique & Art Studio\, 153 State St.\, Brewer\, ME\, 04412\, United States
ATTACH;FMTTYPE=image/jpeg:https://generationsbrewer.com/wp-content/uploads/2024/04/image0-1.jpeg
ORGANIZER;CN="Generations Boutique & Art Studio":MAILTO:generations04412@gmail.com
END:VEVENT
BEGIN:VEVENT
DTSTART;TZID=America/Chicago:20270127T110000
DTEND;TZID=America/Chicago:20270127T170000
DTSTAMP:20260422T064817
CREATED:20260406T194308Z
LAST-MODIFIED:20260406T194308Z
UID:10003532-1801047600-1801069200@generationsbrewer.com
SUMMARY:Walk In Ceramics Open Studio
DESCRIPTION:Come on in for Ceramics Open Studio from 11-5. You can paint ANY ceramic we have in stock. No tickets needed for this event\, just pop in! Every Tuesday through Friday. \nCeramic prices average $10 and up. The price includes studio time\, paints\, supplies and basic Mod Podge for sealing (High Gloss glaze available for $2). You get to finish and take home your piece all in one session! \nWe have something everyone in the family. Plan to come in at least 2 hours before closing to have plenty of time for paints and glazes to dry. \nFeel free bring some snacks and beverages and get ready to paint and have fun in a relaxing\, safe environment.
URL:https://generationsbrewer.com/event/walk-in-ceramics-open-studio-2-2-2-2-2-2-2-2-2-2-2-3-2-2-2-2-2-2-2/2027-01-27/
LOCATION:Generations Boutique & Art Studio\, 153 State St.\, Brewer\, ME\, 04412\, United States
ATTACH;FMTTYPE=image/jpeg:https://generationsbrewer.com/wp-content/uploads/2024/04/image0-1.jpeg
ORGANIZER;CN="Generations Boutique & Art Studio":MAILTO:generations04412@gmail.com
END:VEVENT
BEGIN:VEVENT
DTSTART;TZID=America/Chicago:20270128T110000
DTEND;TZID=America/Chicago:20270128T170000
DTSTAMP:20260422T064817
CREATED:20260406T194308Z
LAST-MODIFIED:20260406T194308Z
UID:10003533-1801134000-1801155600@generationsbrewer.com
SUMMARY:Walk In Ceramics Open Studio
DESCRIPTION:Come on in for Ceramics Open Studio from 11-5. You can paint ANY ceramic we have in stock. No tickets needed for this event\, just pop in! Every Tuesday through Friday. \nCeramic prices average $10 and up. The price includes studio time\, paints\, supplies and basic Mod Podge for sealing (High Gloss glaze available for $2). You get to finish and take home your piece all in one session! \nWe have something everyone in the family. Plan to come in at least 2 hours before closing to have plenty of time for paints and glazes to dry. \nFeel free bring some snacks and beverages and get ready to paint and have fun in a relaxing\, safe environment.
URL:https://generationsbrewer.com/event/walk-in-ceramics-open-studio-2-2-2-2-2-2-2-2-2-2-2-3-2-2-2-2-2-2-2/2027-01-28/
LOCATION:Generations Boutique & Art Studio\, 153 State St.\, Brewer\, ME\, 04412\, United States
ATTACH;FMTTYPE=image/jpeg:https://generationsbrewer.com/wp-content/uploads/2024/04/image0-1.jpeg
ORGANIZER;CN="Generations Boutique & Art Studio":MAILTO:generations04412@gmail.com
END:VEVENT
BEGIN:VEVENT
DTSTART;TZID=America/Chicago:20270129T110000
DTEND;TZID=America/Chicago:20270129T170000
DTSTAMP:20260422T064817
CREATED:20260406T194308Z
LAST-MODIFIED:20260406T194308Z
UID:10003534-1801220400-1801242000@generationsbrewer.com
SUMMARY:Walk In Ceramics Open Studio
DESCRIPTION:Come on in for Ceramics Open Studio from 11-5. You can paint ANY ceramic we have in stock. No tickets needed for this event\, just pop in! Every Tuesday through Friday. \nCeramic prices average $10 and up. The price includes studio time\, paints\, supplies and basic Mod Podge for sealing (High Gloss glaze available for $2). You get to finish and take home your piece all in one session! \nWe have something everyone in the family. Plan to come in at least 2 hours before closing to have plenty of time for paints and glazes to dry. \nFeel free bring some snacks and beverages and get ready to paint and have fun in a relaxing\, safe environment.
URL:https://generationsbrewer.com/event/walk-in-ceramics-open-studio-2-2-2-2-2-2-2-2-2-2-2-3-2-2-2-2-2-2-2/2027-01-29/
LOCATION:Generations Boutique & Art Studio\, 153 State St.\, Brewer\, ME\, 04412\, United States
ATTACH;FMTTYPE=image/jpeg:https://generationsbrewer.com/wp-content/uploads/2024/04/image0-1.jpeg
ORGANIZER;CN="Generations Boutique & Art Studio":MAILTO:generations04412@gmail.com
END:VEVENT
END:VCALENDAR