BEGIN:VCALENDAR
VERSION:2.0
PRODID:-//Generations Boutique &amp; Art Studio - ECPv6.15.17//NONSGML v1.0//EN
CALSCALE:GREGORIAN
METHOD:PUBLISH
X-WR-CALNAME:Generations Boutique &amp; Art Studio
X-ORIGINAL-URL:https://generationsbrewer.com
X-WR-CALDESC:Events for Generations Boutique &amp; Art Studio
REFRESH-INTERVAL;VALUE=DURATION:PT1H
X-Robots-Tag:noindex
X-PUBLISHED-TTL:PT1H
BEGIN:VTIMEZONE
TZID:America/Chicago
BEGIN:DAYLIGHT
TZOFFSETFROM:-0600
TZOFFSETTO:-0500
TZNAME:CDT
DTSTART:20250309T080000
END:DAYLIGHT
BEGIN:STANDARD
TZOFFSETFROM:-0500
TZOFFSETTO:-0600
TZNAME:CST
DTSTART:20251102T070000
END:STANDARD
BEGIN:DAYLIGHT
TZOFFSETFROM:-0600
TZOFFSETTO:-0500
TZNAME:CDT
DTSTART:20260308T080000
END:DAYLIGHT
BEGIN:STANDARD
TZOFFSETFROM:-0500
TZOFFSETTO:-0600
TZNAME:CST
DTSTART:20261101T070000
END:STANDARD
BEGIN:DAYLIGHT
TZOFFSETFROM:-0600
TZOFFSETTO:-0500
TZNAME:CDT
DTSTART:20270314T080000
END:DAYLIGHT
BEGIN:STANDARD
TZOFFSETFROM:-0500
TZOFFSETTO:-0600
TZNAME:CST
DTSTART:20271107T070000
END:STANDARD
END:VTIMEZONE
BEGIN:VEVENT
DTSTART;TZID=America/Chicago:20261201T110000
DTEND;TZID=America/Chicago:20261201T170000
DTSTAMP:20260422T051147
CREATED:20260406T194308Z
LAST-MODIFIED:20260406T194308Z
UID:10003499-1796122800-1796144400@generationsbrewer.com
SUMMARY:Walk In Ceramics Open Studio
DESCRIPTION:Come on in for Ceramics Open Studio from 11-5. You can paint ANY ceramic we have in stock. No tickets needed for this event\, just pop in! Every Tuesday through Friday. \nCeramic prices average $10 and up. The price includes studio time\, paints\, supplies and basic Mod Podge for sealing (High Gloss glaze available for $2). You get to finish and take home your piece all in one session! \nWe have something everyone in the family. Plan to come in at least 2 hours before closing to have plenty of time for paints and glazes to dry. \nFeel free bring some snacks and beverages and get ready to paint and have fun in a relaxing\, safe environment.
URL:https://generationsbrewer.com/event/walk-in-ceramics-open-studio-2-2-2-2-2-2-2-2-2-2-2-3-2-2-2-2-2-2-2/2026-12-01/
LOCATION:Generations Boutique & Art Studio\, 153 State St.\, Brewer\, ME\, 04412\, United States
ATTACH;FMTTYPE=image/jpeg:https://generationsbrewer.com/wp-content/uploads/2024/04/image0-1.jpeg
ORGANIZER;CN="Generations Boutique & Art Studio":MAILTO:generations04412@gmail.com
END:VEVENT
BEGIN:VEVENT
DTSTART;TZID=America/Chicago:20261202T110000
DTEND;TZID=America/Chicago:20261202T170000
DTSTAMP:20260422T051147
CREATED:20260406T194308Z
LAST-MODIFIED:20260406T194308Z
UID:10003500-1796209200-1796230800@generationsbrewer.com
SUMMARY:Walk In Ceramics Open Studio
DESCRIPTION:Come on in for Ceramics Open Studio from 11-5. You can paint ANY ceramic we have in stock. No tickets needed for this event\, just pop in! Every Tuesday through Friday. \nCeramic prices average $10 and up. The price includes studio time\, paints\, supplies and basic Mod Podge for sealing (High Gloss glaze available for $2). You get to finish and take home your piece all in one session! \nWe have something everyone in the family. Plan to come in at least 2 hours before closing to have plenty of time for paints and glazes to dry. \nFeel free bring some snacks and beverages and get ready to paint and have fun in a relaxing\, safe environment.
URL:https://generationsbrewer.com/event/walk-in-ceramics-open-studio-2-2-2-2-2-2-2-2-2-2-2-3-2-2-2-2-2-2-2/2026-12-02/
LOCATION:Generations Boutique & Art Studio\, 153 State St.\, Brewer\, ME\, 04412\, United States
ATTACH;FMTTYPE=image/jpeg:https://generationsbrewer.com/wp-content/uploads/2024/04/image0-1.jpeg
ORGANIZER;CN="Generations Boutique & Art Studio":MAILTO:generations04412@gmail.com
END:VEVENT
BEGIN:VEVENT
DTSTART;TZID=America/Chicago:20261203T110000
DTEND;TZID=America/Chicago:20261203T170000
DTSTAMP:20260422T051147
CREATED:20260406T194308Z
LAST-MODIFIED:20260406T194308Z
UID:10003501-1796295600-1796317200@generationsbrewer.com
SUMMARY:Walk In Ceramics Open Studio
DESCRIPTION:Come on in for Ceramics Open Studio from 11-5. You can paint ANY ceramic we have in stock. No tickets needed for this event\, just pop in! Every Tuesday through Friday. \nCeramic prices average $10 and up. The price includes studio time\, paints\, supplies and basic Mod Podge for sealing (High Gloss glaze available for $2). You get to finish and take home your piece all in one session! \nWe have something everyone in the family. Plan to come in at least 2 hours before closing to have plenty of time for paints and glazes to dry. \nFeel free bring some snacks and beverages and get ready to paint and have fun in a relaxing\, safe environment.
URL:https://generationsbrewer.com/event/walk-in-ceramics-open-studio-2-2-2-2-2-2-2-2-2-2-2-3-2-2-2-2-2-2-2/2026-12-03/
LOCATION:Generations Boutique & Art Studio\, 153 State St.\, Brewer\, ME\, 04412\, United States
ATTACH;FMTTYPE=image/jpeg:https://generationsbrewer.com/wp-content/uploads/2024/04/image0-1.jpeg
ORGANIZER;CN="Generations Boutique & Art Studio":MAILTO:generations04412@gmail.com
END:VEVENT
BEGIN:VEVENT
DTSTART;TZID=America/Chicago:20261204T110000
DTEND;TZID=America/Chicago:20261204T170000
DTSTAMP:20260422T051147
CREATED:20260406T194308Z
LAST-MODIFIED:20260406T194308Z
UID:10003502-1796382000-1796403600@generationsbrewer.com
SUMMARY:Walk In Ceramics Open Studio
DESCRIPTION:Come on in for Ceramics Open Studio from 11-5. You can paint ANY ceramic we have in stock. No tickets needed for this event\, just pop in! Every Tuesday through Friday. \nCeramic prices average $10 and up. The price includes studio time\, paints\, supplies and basic Mod Podge for sealing (High Gloss glaze available for $2). You get to finish and take home your piece all in one session! \nWe have something everyone in the family. Plan to come in at least 2 hours before closing to have plenty of time for paints and glazes to dry. \nFeel free bring some snacks and beverages and get ready to paint and have fun in a relaxing\, safe environment.
URL:https://generationsbrewer.com/event/walk-in-ceramics-open-studio-2-2-2-2-2-2-2-2-2-2-2-3-2-2-2-2-2-2-2/2026-12-04/
LOCATION:Generations Boutique & Art Studio\, 153 State St.\, Brewer\, ME\, 04412\, United States
ATTACH;FMTTYPE=image/jpeg:https://generationsbrewer.com/wp-content/uploads/2024/04/image0-1.jpeg
ORGANIZER;CN="Generations Boutique & Art Studio":MAILTO:generations04412@gmail.com
END:VEVENT
BEGIN:VEVENT
DTSTART;TZID=America/Chicago:20261208T110000
DTEND;TZID=America/Chicago:20261208T170000
DTSTAMP:20260422T051147
CREATED:20260406T194308Z
LAST-MODIFIED:20260406T194308Z
UID:10003503-1796727600-1796749200@generationsbrewer.com
SUMMARY:Walk In Ceramics Open Studio
DESCRIPTION:Come on in for Ceramics Open Studio from 11-5. You can paint ANY ceramic we have in stock. No tickets needed for this event\, just pop in! Every Tuesday through Friday. \nCeramic prices average $10 and up. The price includes studio time\, paints\, supplies and basic Mod Podge for sealing (High Gloss glaze available for $2). You get to finish and take home your piece all in one session! \nWe have something everyone in the family. Plan to come in at least 2 hours before closing to have plenty of time for paints and glazes to dry. \nFeel free bring some snacks and beverages and get ready to paint and have fun in a relaxing\, safe environment.
URL:https://generationsbrewer.com/event/walk-in-ceramics-open-studio-2-2-2-2-2-2-2-2-2-2-2-3-2-2-2-2-2-2-2/2026-12-08/
LOCATION:Generations Boutique & Art Studio\, 153 State St.\, Brewer\, ME\, 04412\, United States
ATTACH;FMTTYPE=image/jpeg:https://generationsbrewer.com/wp-content/uploads/2024/04/image0-1.jpeg
ORGANIZER;CN="Generations Boutique & Art Studio":MAILTO:generations04412@gmail.com
END:VEVENT
BEGIN:VEVENT
DTSTART;TZID=America/Chicago:20261209T110000
DTEND;TZID=America/Chicago:20261209T170000
DTSTAMP:20260422T051147
CREATED:20260406T194308Z
LAST-MODIFIED:20260406T194308Z
UID:10003504-1796814000-1796835600@generationsbrewer.com
SUMMARY:Walk In Ceramics Open Studio
DESCRIPTION:Come on in for Ceramics Open Studio from 11-5. You can paint ANY ceramic we have in stock. No tickets needed for this event\, just pop in! Every Tuesday through Friday. \nCeramic prices average $10 and up. The price includes studio time\, paints\, supplies and basic Mod Podge for sealing (High Gloss glaze available for $2). You get to finish and take home your piece all in one session! \nWe have something everyone in the family. Plan to come in at least 2 hours before closing to have plenty of time for paints and glazes to dry. \nFeel free bring some snacks and beverages and get ready to paint and have fun in a relaxing\, safe environment.
URL:https://generationsbrewer.com/event/walk-in-ceramics-open-studio-2-2-2-2-2-2-2-2-2-2-2-3-2-2-2-2-2-2-2/2026-12-09/
LOCATION:Generations Boutique & Art Studio\, 153 State St.\, Brewer\, ME\, 04412\, United States
ATTACH;FMTTYPE=image/jpeg:https://generationsbrewer.com/wp-content/uploads/2024/04/image0-1.jpeg
ORGANIZER;CN="Generations Boutique & Art Studio":MAILTO:generations04412@gmail.com
END:VEVENT
BEGIN:VEVENT
DTSTART;TZID=America/Chicago:20261210T110000
DTEND;TZID=America/Chicago:20261210T170000
DTSTAMP:20260422T051147
CREATED:20260406T194308Z
LAST-MODIFIED:20260406T194308Z
UID:10003505-1796900400-1796922000@generationsbrewer.com
SUMMARY:Walk In Ceramics Open Studio
DESCRIPTION:Come on in for Ceramics Open Studio from 11-5. You can paint ANY ceramic we have in stock. No tickets needed for this event\, just pop in! Every Tuesday through Friday. \nCeramic prices average $10 and up. The price includes studio time\, paints\, supplies and basic Mod Podge for sealing (High Gloss glaze available for $2). You get to finish and take home your piece all in one session! \nWe have something everyone in the family. Plan to come in at least 2 hours before closing to have plenty of time for paints and glazes to dry. \nFeel free bring some snacks and beverages and get ready to paint and have fun in a relaxing\, safe environment.
URL:https://generationsbrewer.com/event/walk-in-ceramics-open-studio-2-2-2-2-2-2-2-2-2-2-2-3-2-2-2-2-2-2-2/2026-12-10/
LOCATION:Generations Boutique & Art Studio\, 153 State St.\, Brewer\, ME\, 04412\, United States
ATTACH;FMTTYPE=image/jpeg:https://generationsbrewer.com/wp-content/uploads/2024/04/image0-1.jpeg
ORGANIZER;CN="Generations Boutique & Art Studio":MAILTO:generations04412@gmail.com
END:VEVENT
BEGIN:VEVENT
DTSTART;TZID=America/Chicago:20261211T110000
DTEND;TZID=America/Chicago:20261211T170000
DTSTAMP:20260422T051147
CREATED:20260406T194308Z
LAST-MODIFIED:20260406T194308Z
UID:10003506-1796986800-1797008400@generationsbrewer.com
SUMMARY:Walk In Ceramics Open Studio
DESCRIPTION:Come on in for Ceramics Open Studio from 11-5. You can paint ANY ceramic we have in stock. No tickets needed for this event\, just pop in! Every Tuesday through Friday. \nCeramic prices average $10 and up. The price includes studio time\, paints\, supplies and basic Mod Podge for sealing (High Gloss glaze available for $2). You get to finish and take home your piece all in one session! \nWe have something everyone in the family. Plan to come in at least 2 hours before closing to have plenty of time for paints and glazes to dry. \nFeel free bring some snacks and beverages and get ready to paint and have fun in a relaxing\, safe environment.
URL:https://generationsbrewer.com/event/walk-in-ceramics-open-studio-2-2-2-2-2-2-2-2-2-2-2-3-2-2-2-2-2-2-2/2026-12-11/
LOCATION:Generations Boutique & Art Studio\, 153 State St.\, Brewer\, ME\, 04412\, United States
ATTACH;FMTTYPE=image/jpeg:https://generationsbrewer.com/wp-content/uploads/2024/04/image0-1.jpeg
ORGANIZER;CN="Generations Boutique & Art Studio":MAILTO:generations04412@gmail.com
END:VEVENT
BEGIN:VEVENT
DTSTART;TZID=America/Chicago:20261215T110000
DTEND;TZID=America/Chicago:20261215T170000
DTSTAMP:20260422T051147
CREATED:20260406T194308Z
LAST-MODIFIED:20260406T194308Z
UID:10003507-1797332400-1797354000@generationsbrewer.com
SUMMARY:Walk In Ceramics Open Studio
DESCRIPTION:Come on in for Ceramics Open Studio from 11-5. You can paint ANY ceramic we have in stock. No tickets needed for this event\, just pop in! Every Tuesday through Friday. \nCeramic prices average $10 and up. The price includes studio time\, paints\, supplies and basic Mod Podge for sealing (High Gloss glaze available for $2). You get to finish and take home your piece all in one session! \nWe have something everyone in the family. Plan to come in at least 2 hours before closing to have plenty of time for paints and glazes to dry. \nFeel free bring some snacks and beverages and get ready to paint and have fun in a relaxing\, safe environment.
URL:https://generationsbrewer.com/event/walk-in-ceramics-open-studio-2-2-2-2-2-2-2-2-2-2-2-3-2-2-2-2-2-2-2/2026-12-15/
LOCATION:Generations Boutique & Art Studio\, 153 State St.\, Brewer\, ME\, 04412\, United States
ATTACH;FMTTYPE=image/jpeg:https://generationsbrewer.com/wp-content/uploads/2024/04/image0-1.jpeg
ORGANIZER;CN="Generations Boutique & Art Studio":MAILTO:generations04412@gmail.com
END:VEVENT
BEGIN:VEVENT
DTSTART;TZID=America/Chicago:20261216T110000
DTEND;TZID=America/Chicago:20261216T170000
DTSTAMP:20260422T051147
CREATED:20260406T194308Z
LAST-MODIFIED:20260406T194308Z
UID:10003508-1797418800-1797440400@generationsbrewer.com
SUMMARY:Walk In Ceramics Open Studio
DESCRIPTION:Come on in for Ceramics Open Studio from 11-5. You can paint ANY ceramic we have in stock. No tickets needed for this event\, just pop in! Every Tuesday through Friday. \nCeramic prices average $10 and up. The price includes studio time\, paints\, supplies and basic Mod Podge for sealing (High Gloss glaze available for $2). You get to finish and take home your piece all in one session! \nWe have something everyone in the family. Plan to come in at least 2 hours before closing to have plenty of time for paints and glazes to dry. \nFeel free bring some snacks and beverages and get ready to paint and have fun in a relaxing\, safe environment.
URL:https://generationsbrewer.com/event/walk-in-ceramics-open-studio-2-2-2-2-2-2-2-2-2-2-2-3-2-2-2-2-2-2-2/2026-12-16/
LOCATION:Generations Boutique & Art Studio\, 153 State St.\, Brewer\, ME\, 04412\, United States
ATTACH;FMTTYPE=image/jpeg:https://generationsbrewer.com/wp-content/uploads/2024/04/image0-1.jpeg
ORGANIZER;CN="Generations Boutique & Art Studio":MAILTO:generations04412@gmail.com
END:VEVENT
BEGIN:VEVENT
DTSTART;TZID=America/Chicago:20261217T110000
DTEND;TZID=America/Chicago:20261217T170000
DTSTAMP:20260422T051147
CREATED:20260406T194308Z
LAST-MODIFIED:20260406T194308Z
UID:10003509-1797505200-1797526800@generationsbrewer.com
SUMMARY:Walk In Ceramics Open Studio
DESCRIPTION:Come on in for Ceramics Open Studio from 11-5. You can paint ANY ceramic we have in stock. No tickets needed for this event\, just pop in! Every Tuesday through Friday. \nCeramic prices average $10 and up. The price includes studio time\, paints\, supplies and basic Mod Podge for sealing (High Gloss glaze available for $2). You get to finish and take home your piece all in one session! \nWe have something everyone in the family. Plan to come in at least 2 hours before closing to have plenty of time for paints and glazes to dry. \nFeel free bring some snacks and beverages and get ready to paint and have fun in a relaxing\, safe environment.
URL:https://generationsbrewer.com/event/walk-in-ceramics-open-studio-2-2-2-2-2-2-2-2-2-2-2-3-2-2-2-2-2-2-2/2026-12-17/
LOCATION:Generations Boutique & Art Studio\, 153 State St.\, Brewer\, ME\, 04412\, United States
ATTACH;FMTTYPE=image/jpeg:https://generationsbrewer.com/wp-content/uploads/2024/04/image0-1.jpeg
ORGANIZER;CN="Generations Boutique & Art Studio":MAILTO:generations04412@gmail.com
END:VEVENT
BEGIN:VEVENT
DTSTART;TZID=America/Chicago:20261218T110000
DTEND;TZID=America/Chicago:20261218T170000
DTSTAMP:20260422T051147
CREATED:20260406T194308Z
LAST-MODIFIED:20260406T194308Z
UID:10003510-1797591600-1797613200@generationsbrewer.com
SUMMARY:Walk In Ceramics Open Studio
DESCRIPTION:Come on in for Ceramics Open Studio from 11-5. You can paint ANY ceramic we have in stock. No tickets needed for this event\, just pop in! Every Tuesday through Friday. \nCeramic prices average $10 and up. The price includes studio time\, paints\, supplies and basic Mod Podge for sealing (High Gloss glaze available for $2). You get to finish and take home your piece all in one session! \nWe have something everyone in the family. Plan to come in at least 2 hours before closing to have plenty of time for paints and glazes to dry. \nFeel free bring some snacks and beverages and get ready to paint and have fun in a relaxing\, safe environment.
URL:https://generationsbrewer.com/event/walk-in-ceramics-open-studio-2-2-2-2-2-2-2-2-2-2-2-3-2-2-2-2-2-2-2/2026-12-18/
LOCATION:Generations Boutique & Art Studio\, 153 State St.\, Brewer\, ME\, 04412\, United States
ATTACH;FMTTYPE=image/jpeg:https://generationsbrewer.com/wp-content/uploads/2024/04/image0-1.jpeg
ORGANIZER;CN="Generations Boutique & Art Studio":MAILTO:generations04412@gmail.com
END:VEVENT
BEGIN:VEVENT
DTSTART;TZID=America/Chicago:20261222T110000
DTEND;TZID=America/Chicago:20261222T170000
DTSTAMP:20260422T051147
CREATED:20260406T194308Z
LAST-MODIFIED:20260406T194308Z
UID:10003511-1797937200-1797958800@generationsbrewer.com
SUMMARY:Walk In Ceramics Open Studio
DESCRIPTION:Come on in for Ceramics Open Studio from 11-5. You can paint ANY ceramic we have in stock. No tickets needed for this event\, just pop in! Every Tuesday through Friday. \nCeramic prices average $10 and up. The price includes studio time\, paints\, supplies and basic Mod Podge for sealing (High Gloss glaze available for $2). You get to finish and take home your piece all in one session! \nWe have something everyone in the family. Plan to come in at least 2 hours before closing to have plenty of time for paints and glazes to dry. \nFeel free bring some snacks and beverages and get ready to paint and have fun in a relaxing\, safe environment.
URL:https://generationsbrewer.com/event/walk-in-ceramics-open-studio-2-2-2-2-2-2-2-2-2-2-2-3-2-2-2-2-2-2-2/2026-12-22/
LOCATION:Generations Boutique & Art Studio\, 153 State St.\, Brewer\, ME\, 04412\, United States
ATTACH;FMTTYPE=image/jpeg:https://generationsbrewer.com/wp-content/uploads/2024/04/image0-1.jpeg
ORGANIZER;CN="Generations Boutique & Art Studio":MAILTO:generations04412@gmail.com
END:VEVENT
BEGIN:VEVENT
DTSTART;TZID=America/Chicago:20261223T110000
DTEND;TZID=America/Chicago:20261223T170000
DTSTAMP:20260422T051147
CREATED:20260406T194308Z
LAST-MODIFIED:20260406T194308Z
UID:10003512-1798023600-1798045200@generationsbrewer.com
SUMMARY:Walk In Ceramics Open Studio
DESCRIPTION:Come on in for Ceramics Open Studio from 11-5. You can paint ANY ceramic we have in stock. No tickets needed for this event\, just pop in! Every Tuesday through Friday. \nCeramic prices average $10 and up. The price includes studio time\, paints\, supplies and basic Mod Podge for sealing (High Gloss glaze available for $2). You get to finish and take home your piece all in one session! \nWe have something everyone in the family. Plan to come in at least 2 hours before closing to have plenty of time for paints and glazes to dry. \nFeel free bring some snacks and beverages and get ready to paint and have fun in a relaxing\, safe environment.
URL:https://generationsbrewer.com/event/walk-in-ceramics-open-studio-2-2-2-2-2-2-2-2-2-2-2-3-2-2-2-2-2-2-2/2026-12-23/
LOCATION:Generations Boutique & Art Studio\, 153 State St.\, Brewer\, ME\, 04412\, United States
ATTACH;FMTTYPE=image/jpeg:https://generationsbrewer.com/wp-content/uploads/2024/04/image0-1.jpeg
ORGANIZER;CN="Generations Boutique & Art Studio":MAILTO:generations04412@gmail.com
END:VEVENT
BEGIN:VEVENT
DTSTART;TZID=America/Chicago:20261224T110000
DTEND;TZID=America/Chicago:20261224T170000
DTSTAMP:20260422T051147
CREATED:20260406T194308Z
LAST-MODIFIED:20260406T194308Z
UID:10003513-1798110000-1798131600@generationsbrewer.com
SUMMARY:Walk In Ceramics Open Studio
DESCRIPTION:Come on in for Ceramics Open Studio from 11-5. You can paint ANY ceramic we have in stock. No tickets needed for this event\, just pop in! Every Tuesday through Friday. \nCeramic prices average $10 and up. The price includes studio time\, paints\, supplies and basic Mod Podge for sealing (High Gloss glaze available for $2). You get to finish and take home your piece all in one session! \nWe have something everyone in the family. Plan to come in at least 2 hours before closing to have plenty of time for paints and glazes to dry. \nFeel free bring some snacks and beverages and get ready to paint and have fun in a relaxing\, safe environment.
URL:https://generationsbrewer.com/event/walk-in-ceramics-open-studio-2-2-2-2-2-2-2-2-2-2-2-3-2-2-2-2-2-2-2/2026-12-24/
LOCATION:Generations Boutique & Art Studio\, 153 State St.\, Brewer\, ME\, 04412\, United States
ATTACH;FMTTYPE=image/jpeg:https://generationsbrewer.com/wp-content/uploads/2024/04/image0-1.jpeg
ORGANIZER;CN="Generations Boutique & Art Studio":MAILTO:generations04412@gmail.com
END:VEVENT
BEGIN:VEVENT
DTSTART;TZID=America/Chicago:20261225T110000
DTEND;TZID=America/Chicago:20261225T170000
DTSTAMP:20260422T051147
CREATED:20260406T194308Z
LAST-MODIFIED:20260406T194308Z
UID:10003514-1798196400-1798218000@generationsbrewer.com
SUMMARY:Walk In Ceramics Open Studio
DESCRIPTION:Come on in for Ceramics Open Studio from 11-5. You can paint ANY ceramic we have in stock. No tickets needed for this event\, just pop in! Every Tuesday through Friday. \nCeramic prices average $10 and up. The price includes studio time\, paints\, supplies and basic Mod Podge for sealing (High Gloss glaze available for $2). You get to finish and take home your piece all in one session! \nWe have something everyone in the family. Plan to come in at least 2 hours before closing to have plenty of time for paints and glazes to dry. \nFeel free bring some snacks and beverages and get ready to paint and have fun in a relaxing\, safe environment.
URL:https://generationsbrewer.com/event/walk-in-ceramics-open-studio-2-2-2-2-2-2-2-2-2-2-2-3-2-2-2-2-2-2-2/2026-12-25/
LOCATION:Generations Boutique & Art Studio\, 153 State St.\, Brewer\, ME\, 04412\, United States
ATTACH;FMTTYPE=image/jpeg:https://generationsbrewer.com/wp-content/uploads/2024/04/image0-1.jpeg
ORGANIZER;CN="Generations Boutique & Art Studio":MAILTO:generations04412@gmail.com
END:VEVENT
BEGIN:VEVENT
DTSTART;TZID=America/Chicago:20261229T110000
DTEND;TZID=America/Chicago:20261229T170000
DTSTAMP:20260422T051147
CREATED:20260406T194308Z
LAST-MODIFIED:20260406T194308Z
UID:10003515-1798542000-1798563600@generationsbrewer.com
SUMMARY:Walk In Ceramics Open Studio
DESCRIPTION:Come on in for Ceramics Open Studio from 11-5. You can paint ANY ceramic we have in stock. No tickets needed for this event\, just pop in! Every Tuesday through Friday. \nCeramic prices average $10 and up. The price includes studio time\, paints\, supplies and basic Mod Podge for sealing (High Gloss glaze available for $2). You get to finish and take home your piece all in one session! \nWe have something everyone in the family. Plan to come in at least 2 hours before closing to have plenty of time for paints and glazes to dry. \nFeel free bring some snacks and beverages and get ready to paint and have fun in a relaxing\, safe environment.
URL:https://generationsbrewer.com/event/walk-in-ceramics-open-studio-2-2-2-2-2-2-2-2-2-2-2-3-2-2-2-2-2-2-2/2026-12-29/
LOCATION:Generations Boutique & Art Studio\, 153 State St.\, Brewer\, ME\, 04412\, United States
ATTACH;FMTTYPE=image/jpeg:https://generationsbrewer.com/wp-content/uploads/2024/04/image0-1.jpeg
ORGANIZER;CN="Generations Boutique & Art Studio":MAILTO:generations04412@gmail.com
END:VEVENT
BEGIN:VEVENT
DTSTART;TZID=America/Chicago:20261230T110000
DTEND;TZID=America/Chicago:20261230T170000
DTSTAMP:20260422T051147
CREATED:20260406T194308Z
LAST-MODIFIED:20260406T194308Z
UID:10003516-1798628400-1798650000@generationsbrewer.com
SUMMARY:Walk In Ceramics Open Studio
DESCRIPTION:Come on in for Ceramics Open Studio from 11-5. You can paint ANY ceramic we have in stock. No tickets needed for this event\, just pop in! Every Tuesday through Friday. \nCeramic prices average $10 and up. The price includes studio time\, paints\, supplies and basic Mod Podge for sealing (High Gloss glaze available for $2). You get to finish and take home your piece all in one session! \nWe have something everyone in the family. Plan to come in at least 2 hours before closing to have plenty of time for paints and glazes to dry. \nFeel free bring some snacks and beverages and get ready to paint and have fun in a relaxing\, safe environment.
URL:https://generationsbrewer.com/event/walk-in-ceramics-open-studio-2-2-2-2-2-2-2-2-2-2-2-3-2-2-2-2-2-2-2/2026-12-30/
LOCATION:Generations Boutique & Art Studio\, 153 State St.\, Brewer\, ME\, 04412\, United States
ATTACH;FMTTYPE=image/jpeg:https://generationsbrewer.com/wp-content/uploads/2024/04/image0-1.jpeg
ORGANIZER;CN="Generations Boutique & Art Studio":MAILTO:generations04412@gmail.com
END:VEVENT
BEGIN:VEVENT
DTSTART;TZID=America/Chicago:20261231T110000
DTEND;TZID=America/Chicago:20261231T170000
DTSTAMP:20260422T051147
CREATED:20260406T194308Z
LAST-MODIFIED:20260406T194308Z
UID:10003517-1798714800-1798736400@generationsbrewer.com
SUMMARY:Walk In Ceramics Open Studio
DESCRIPTION:Come on in for Ceramics Open Studio from 11-5. You can paint ANY ceramic we have in stock. No tickets needed for this event\, just pop in! Every Tuesday through Friday. \nCeramic prices average $10 and up. The price includes studio time\, paints\, supplies and basic Mod Podge for sealing (High Gloss glaze available for $2). You get to finish and take home your piece all in one session! \nWe have something everyone in the family. Plan to come in at least 2 hours before closing to have plenty of time for paints and glazes to dry. \nFeel free bring some snacks and beverages and get ready to paint and have fun in a relaxing\, safe environment.
URL:https://generationsbrewer.com/event/walk-in-ceramics-open-studio-2-2-2-2-2-2-2-2-2-2-2-3-2-2-2-2-2-2-2/2026-12-31/
LOCATION:Generations Boutique & Art Studio\, 153 State St.\, Brewer\, ME\, 04412\, United States
ATTACH;FMTTYPE=image/jpeg:https://generationsbrewer.com/wp-content/uploads/2024/04/image0-1.jpeg
ORGANIZER;CN="Generations Boutique & Art Studio":MAILTO:generations04412@gmail.com
END:VEVENT
END:VCALENDAR