BEGIN:VCALENDAR
VERSION:2.0
PRODID:-//Generations Boutique &amp; Art Studio - ECPv6.15.17//NONSGML v1.0//EN
CALSCALE:GREGORIAN
METHOD:PUBLISH
X-WR-CALNAME:Generations Boutique &amp; Art Studio
X-ORIGINAL-URL:https://generationsbrewer.com
X-WR-CALDESC:Events for Generations Boutique &amp; Art Studio
REFRESH-INTERVAL;VALUE=DURATION:PT1H
X-Robots-Tag:noindex
X-PUBLISHED-TTL:PT1H
BEGIN:VTIMEZONE
TZID:America/Chicago
BEGIN:DAYLIGHT
TZOFFSETFROM:-0600
TZOFFSETTO:-0500
TZNAME:CDT
DTSTART:20250309T080000
END:DAYLIGHT
BEGIN:STANDARD
TZOFFSETFROM:-0500
TZOFFSETTO:-0600
TZNAME:CST
DTSTART:20251102T070000
END:STANDARD
BEGIN:DAYLIGHT
TZOFFSETFROM:-0600
TZOFFSETTO:-0500
TZNAME:CDT
DTSTART:20260308T080000
END:DAYLIGHT
BEGIN:STANDARD
TZOFFSETFROM:-0500
TZOFFSETTO:-0600
TZNAME:CST
DTSTART:20261101T070000
END:STANDARD
BEGIN:DAYLIGHT
TZOFFSETFROM:-0600
TZOFFSETTO:-0500
TZNAME:CDT
DTSTART:20270314T080000
END:DAYLIGHT
BEGIN:STANDARD
TZOFFSETFROM:-0500
TZOFFSETTO:-0600
TZNAME:CST
DTSTART:20271107T070000
END:STANDARD
END:VTIMEZONE
BEGIN:VEVENT
DTSTART;TZID=America/Chicago:20260804T110000
DTEND;TZID=America/Chicago:20260804T170000
DTSTAMP:20260421T225000
CREATED:20260406T194308Z
LAST-MODIFIED:20260406T194308Z
UID:10003431-1785841200-1785862800@generationsbrewer.com
SUMMARY:Walk In Ceramics Open Studio
DESCRIPTION:Come on in for Ceramics Open Studio from 11-5. You can paint ANY ceramic we have in stock. No tickets needed for this event\, just pop in! Every Tuesday through Friday. \nCeramic prices average $10 and up. The price includes studio time\, paints\, supplies and basic Mod Podge for sealing (High Gloss glaze available for $2). You get to finish and take home your piece all in one session! \nWe have something everyone in the family. Plan to come in at least 2 hours before closing to have plenty of time for paints and glazes to dry. \nFeel free bring some snacks and beverages and get ready to paint and have fun in a relaxing\, safe environment.
URL:https://generationsbrewer.com/event/walk-in-ceramics-open-studio-2-2-2-2-2-2-2-2-2-2-2-3-2-2-2-2-2-2-2/2026-08-04/
LOCATION:Generations Boutique & Art Studio\, 153 State St.\, Brewer\, ME\, 04412\, United States
ATTACH;FMTTYPE=image/jpeg:https://generationsbrewer.com/wp-content/uploads/2024/04/image0-1.jpeg
ORGANIZER;CN="Generations Boutique & Art Studio":MAILTO:generations04412@gmail.com
END:VEVENT
BEGIN:VEVENT
DTSTART;TZID=America/Chicago:20260805T110000
DTEND;TZID=America/Chicago:20260805T170000
DTSTAMP:20260421T225000
CREATED:20260406T194308Z
LAST-MODIFIED:20260406T194308Z
UID:10003432-1785927600-1785949200@generationsbrewer.com
SUMMARY:Walk In Ceramics Open Studio
DESCRIPTION:Come on in for Ceramics Open Studio from 11-5. You can paint ANY ceramic we have in stock. No tickets needed for this event\, just pop in! Every Tuesday through Friday. \nCeramic prices average $10 and up. The price includes studio time\, paints\, supplies and basic Mod Podge for sealing (High Gloss glaze available for $2). You get to finish and take home your piece all in one session! \nWe have something everyone in the family. Plan to come in at least 2 hours before closing to have plenty of time for paints and glazes to dry. \nFeel free bring some snacks and beverages and get ready to paint and have fun in a relaxing\, safe environment.
URL:https://generationsbrewer.com/event/walk-in-ceramics-open-studio-2-2-2-2-2-2-2-2-2-2-2-3-2-2-2-2-2-2-2/2026-08-05/
LOCATION:Generations Boutique & Art Studio\, 153 State St.\, Brewer\, ME\, 04412\, United States
ATTACH;FMTTYPE=image/jpeg:https://generationsbrewer.com/wp-content/uploads/2024/04/image0-1.jpeg
ORGANIZER;CN="Generations Boutique & Art Studio":MAILTO:generations04412@gmail.com
END:VEVENT
BEGIN:VEVENT
DTSTART;TZID=America/Chicago:20260806T110000
DTEND;TZID=America/Chicago:20260806T170000
DTSTAMP:20260421T225000
CREATED:20260406T194308Z
LAST-MODIFIED:20260406T194308Z
UID:10003433-1786014000-1786035600@generationsbrewer.com
SUMMARY:Walk In Ceramics Open Studio
DESCRIPTION:Come on in for Ceramics Open Studio from 11-5. You can paint ANY ceramic we have in stock. No tickets needed for this event\, just pop in! Every Tuesday through Friday. \nCeramic prices average $10 and up. The price includes studio time\, paints\, supplies and basic Mod Podge for sealing (High Gloss glaze available for $2). You get to finish and take home your piece all in one session! \nWe have something everyone in the family. Plan to come in at least 2 hours before closing to have plenty of time for paints and glazes to dry. \nFeel free bring some snacks and beverages and get ready to paint and have fun in a relaxing\, safe environment.
URL:https://generationsbrewer.com/event/walk-in-ceramics-open-studio-2-2-2-2-2-2-2-2-2-2-2-3-2-2-2-2-2-2-2/2026-08-06/
LOCATION:Generations Boutique & Art Studio\, 153 State St.\, Brewer\, ME\, 04412\, United States
ATTACH;FMTTYPE=image/jpeg:https://generationsbrewer.com/wp-content/uploads/2024/04/image0-1.jpeg
ORGANIZER;CN="Generations Boutique & Art Studio":MAILTO:generations04412@gmail.com
END:VEVENT
BEGIN:VEVENT
DTSTART;TZID=America/Chicago:20260807T110000
DTEND;TZID=America/Chicago:20260807T170000
DTSTAMP:20260421T225000
CREATED:20260406T194308Z
LAST-MODIFIED:20260406T194308Z
UID:10003434-1786100400-1786122000@generationsbrewer.com
SUMMARY:Walk In Ceramics Open Studio
DESCRIPTION:Come on in for Ceramics Open Studio from 11-5. You can paint ANY ceramic we have in stock. No tickets needed for this event\, just pop in! Every Tuesday through Friday. \nCeramic prices average $10 and up. The price includes studio time\, paints\, supplies and basic Mod Podge for sealing (High Gloss glaze available for $2). You get to finish and take home your piece all in one session! \nWe have something everyone in the family. Plan to come in at least 2 hours before closing to have plenty of time for paints and glazes to dry. \nFeel free bring some snacks and beverages and get ready to paint and have fun in a relaxing\, safe environment.
URL:https://generationsbrewer.com/event/walk-in-ceramics-open-studio-2-2-2-2-2-2-2-2-2-2-2-3-2-2-2-2-2-2-2/2026-08-07/
LOCATION:Generations Boutique & Art Studio\, 153 State St.\, Brewer\, ME\, 04412\, United States
ATTACH;FMTTYPE=image/jpeg:https://generationsbrewer.com/wp-content/uploads/2024/04/image0-1.jpeg
ORGANIZER;CN="Generations Boutique & Art Studio":MAILTO:generations04412@gmail.com
END:VEVENT
BEGIN:VEVENT
DTSTART;TZID=America/Chicago:20260811T110000
DTEND;TZID=America/Chicago:20260811T170000
DTSTAMP:20260421T225000
CREATED:20260406T194308Z
LAST-MODIFIED:20260406T194308Z
UID:10003435-1786446000-1786467600@generationsbrewer.com
SUMMARY:Walk In Ceramics Open Studio
DESCRIPTION:Come on in for Ceramics Open Studio from 11-5. You can paint ANY ceramic we have in stock. No tickets needed for this event\, just pop in! Every Tuesday through Friday. \nCeramic prices average $10 and up. The price includes studio time\, paints\, supplies and basic Mod Podge for sealing (High Gloss glaze available for $2). You get to finish and take home your piece all in one session! \nWe have something everyone in the family. Plan to come in at least 2 hours before closing to have plenty of time for paints and glazes to dry. \nFeel free bring some snacks and beverages and get ready to paint and have fun in a relaxing\, safe environment.
URL:https://generationsbrewer.com/event/walk-in-ceramics-open-studio-2-2-2-2-2-2-2-2-2-2-2-3-2-2-2-2-2-2-2/2026-08-11/
LOCATION:Generations Boutique & Art Studio\, 153 State St.\, Brewer\, ME\, 04412\, United States
ATTACH;FMTTYPE=image/jpeg:https://generationsbrewer.com/wp-content/uploads/2024/04/image0-1.jpeg
ORGANIZER;CN="Generations Boutique & Art Studio":MAILTO:generations04412@gmail.com
END:VEVENT
BEGIN:VEVENT
DTSTART;TZID=America/Chicago:20260812T110000
DTEND;TZID=America/Chicago:20260812T170000
DTSTAMP:20260421T225000
CREATED:20260406T194308Z
LAST-MODIFIED:20260406T194308Z
UID:10003436-1786532400-1786554000@generationsbrewer.com
SUMMARY:Walk In Ceramics Open Studio
DESCRIPTION:Come on in for Ceramics Open Studio from 11-5. You can paint ANY ceramic we have in stock. No tickets needed for this event\, just pop in! Every Tuesday through Friday. \nCeramic prices average $10 and up. The price includes studio time\, paints\, supplies and basic Mod Podge for sealing (High Gloss glaze available for $2). You get to finish and take home your piece all in one session! \nWe have something everyone in the family. Plan to come in at least 2 hours before closing to have plenty of time for paints and glazes to dry. \nFeel free bring some snacks and beverages and get ready to paint and have fun in a relaxing\, safe environment.
URL:https://generationsbrewer.com/event/walk-in-ceramics-open-studio-2-2-2-2-2-2-2-2-2-2-2-3-2-2-2-2-2-2-2/2026-08-12/
LOCATION:Generations Boutique & Art Studio\, 153 State St.\, Brewer\, ME\, 04412\, United States
ATTACH;FMTTYPE=image/jpeg:https://generationsbrewer.com/wp-content/uploads/2024/04/image0-1.jpeg
ORGANIZER;CN="Generations Boutique & Art Studio":MAILTO:generations04412@gmail.com
END:VEVENT
BEGIN:VEVENT
DTSTART;TZID=America/Chicago:20260813T110000
DTEND;TZID=America/Chicago:20260813T170000
DTSTAMP:20260421T225000
CREATED:20260406T194308Z
LAST-MODIFIED:20260406T194308Z
UID:10003437-1786618800-1786640400@generationsbrewer.com
SUMMARY:Walk In Ceramics Open Studio
DESCRIPTION:Come on in for Ceramics Open Studio from 11-5. You can paint ANY ceramic we have in stock. No tickets needed for this event\, just pop in! Every Tuesday through Friday. \nCeramic prices average $10 and up. The price includes studio time\, paints\, supplies and basic Mod Podge for sealing (High Gloss glaze available for $2). You get to finish and take home your piece all in one session! \nWe have something everyone in the family. Plan to come in at least 2 hours before closing to have plenty of time for paints and glazes to dry. \nFeel free bring some snacks and beverages and get ready to paint and have fun in a relaxing\, safe environment.
URL:https://generationsbrewer.com/event/walk-in-ceramics-open-studio-2-2-2-2-2-2-2-2-2-2-2-3-2-2-2-2-2-2-2/2026-08-13/
LOCATION:Generations Boutique & Art Studio\, 153 State St.\, Brewer\, ME\, 04412\, United States
ATTACH;FMTTYPE=image/jpeg:https://generationsbrewer.com/wp-content/uploads/2024/04/image0-1.jpeg
ORGANIZER;CN="Generations Boutique & Art Studio":MAILTO:generations04412@gmail.com
END:VEVENT
BEGIN:VEVENT
DTSTART;TZID=America/Chicago:20260814T110000
DTEND;TZID=America/Chicago:20260814T170000
DTSTAMP:20260421T225000
CREATED:20260406T194308Z
LAST-MODIFIED:20260406T194308Z
UID:10003438-1786705200-1786726800@generationsbrewer.com
SUMMARY:Walk In Ceramics Open Studio
DESCRIPTION:Come on in for Ceramics Open Studio from 11-5. You can paint ANY ceramic we have in stock. No tickets needed for this event\, just pop in! Every Tuesday through Friday. \nCeramic prices average $10 and up. The price includes studio time\, paints\, supplies and basic Mod Podge for sealing (High Gloss glaze available for $2). You get to finish and take home your piece all in one session! \nWe have something everyone in the family. Plan to come in at least 2 hours before closing to have plenty of time for paints and glazes to dry. \nFeel free bring some snacks and beverages and get ready to paint and have fun in a relaxing\, safe environment.
URL:https://generationsbrewer.com/event/walk-in-ceramics-open-studio-2-2-2-2-2-2-2-2-2-2-2-3-2-2-2-2-2-2-2/2026-08-14/
LOCATION:Generations Boutique & Art Studio\, 153 State St.\, Brewer\, ME\, 04412\, United States
ATTACH;FMTTYPE=image/jpeg:https://generationsbrewer.com/wp-content/uploads/2024/04/image0-1.jpeg
ORGANIZER;CN="Generations Boutique & Art Studio":MAILTO:generations04412@gmail.com
END:VEVENT
BEGIN:VEVENT
DTSTART;TZID=America/Chicago:20260818T110000
DTEND;TZID=America/Chicago:20260818T170000
DTSTAMP:20260421T225000
CREATED:20260406T194308Z
LAST-MODIFIED:20260406T194308Z
UID:10003439-1787050800-1787072400@generationsbrewer.com
SUMMARY:Walk In Ceramics Open Studio
DESCRIPTION:Come on in for Ceramics Open Studio from 11-5. You can paint ANY ceramic we have in stock. No tickets needed for this event\, just pop in! Every Tuesday through Friday. \nCeramic prices average $10 and up. The price includes studio time\, paints\, supplies and basic Mod Podge for sealing (High Gloss glaze available for $2). You get to finish and take home your piece all in one session! \nWe have something everyone in the family. Plan to come in at least 2 hours before closing to have plenty of time for paints and glazes to dry. \nFeel free bring some snacks and beverages and get ready to paint and have fun in a relaxing\, safe environment.
URL:https://generationsbrewer.com/event/walk-in-ceramics-open-studio-2-2-2-2-2-2-2-2-2-2-2-3-2-2-2-2-2-2-2/2026-08-18/
LOCATION:Generations Boutique & Art Studio\, 153 State St.\, Brewer\, ME\, 04412\, United States
ATTACH;FMTTYPE=image/jpeg:https://generationsbrewer.com/wp-content/uploads/2024/04/image0-1.jpeg
ORGANIZER;CN="Generations Boutique & Art Studio":MAILTO:generations04412@gmail.com
END:VEVENT
BEGIN:VEVENT
DTSTART;TZID=America/Chicago:20260819T110000
DTEND;TZID=America/Chicago:20260819T170000
DTSTAMP:20260421T225000
CREATED:20260406T194308Z
LAST-MODIFIED:20260406T194308Z
UID:10003440-1787137200-1787158800@generationsbrewer.com
SUMMARY:Walk In Ceramics Open Studio
DESCRIPTION:Come on in for Ceramics Open Studio from 11-5. You can paint ANY ceramic we have in stock. No tickets needed for this event\, just pop in! Every Tuesday through Friday. \nCeramic prices average $10 and up. The price includes studio time\, paints\, supplies and basic Mod Podge for sealing (High Gloss glaze available for $2). You get to finish and take home your piece all in one session! \nWe have something everyone in the family. Plan to come in at least 2 hours before closing to have plenty of time for paints and glazes to dry. \nFeel free bring some snacks and beverages and get ready to paint and have fun in a relaxing\, safe environment.
URL:https://generationsbrewer.com/event/walk-in-ceramics-open-studio-2-2-2-2-2-2-2-2-2-2-2-3-2-2-2-2-2-2-2/2026-08-19/
LOCATION:Generations Boutique & Art Studio\, 153 State St.\, Brewer\, ME\, 04412\, United States
ATTACH;FMTTYPE=image/jpeg:https://generationsbrewer.com/wp-content/uploads/2024/04/image0-1.jpeg
ORGANIZER;CN="Generations Boutique & Art Studio":MAILTO:generations04412@gmail.com
END:VEVENT
BEGIN:VEVENT
DTSTART;TZID=America/Chicago:20260820T110000
DTEND;TZID=America/Chicago:20260820T170000
DTSTAMP:20260421T225000
CREATED:20260406T194308Z
LAST-MODIFIED:20260406T194308Z
UID:10003441-1787223600-1787245200@generationsbrewer.com
SUMMARY:Walk In Ceramics Open Studio
DESCRIPTION:Come on in for Ceramics Open Studio from 11-5. You can paint ANY ceramic we have in stock. No tickets needed for this event\, just pop in! Every Tuesday through Friday. \nCeramic prices average $10 and up. The price includes studio time\, paints\, supplies and basic Mod Podge for sealing (High Gloss glaze available for $2). You get to finish and take home your piece all in one session! \nWe have something everyone in the family. Plan to come in at least 2 hours before closing to have plenty of time for paints and glazes to dry. \nFeel free bring some snacks and beverages and get ready to paint and have fun in a relaxing\, safe environment.
URL:https://generationsbrewer.com/event/walk-in-ceramics-open-studio-2-2-2-2-2-2-2-2-2-2-2-3-2-2-2-2-2-2-2/2026-08-20/
LOCATION:Generations Boutique & Art Studio\, 153 State St.\, Brewer\, ME\, 04412\, United States
ATTACH;FMTTYPE=image/jpeg:https://generationsbrewer.com/wp-content/uploads/2024/04/image0-1.jpeg
ORGANIZER;CN="Generations Boutique & Art Studio":MAILTO:generations04412@gmail.com
END:VEVENT
BEGIN:VEVENT
DTSTART;TZID=America/Chicago:20260821T110000
DTEND;TZID=America/Chicago:20260821T170000
DTSTAMP:20260421T225000
CREATED:20260406T194308Z
LAST-MODIFIED:20260406T194308Z
UID:10003442-1787310000-1787331600@generationsbrewer.com
SUMMARY:Walk In Ceramics Open Studio
DESCRIPTION:Come on in for Ceramics Open Studio from 11-5. You can paint ANY ceramic we have in stock. No tickets needed for this event\, just pop in! Every Tuesday through Friday. \nCeramic prices average $10 and up. The price includes studio time\, paints\, supplies and basic Mod Podge for sealing (High Gloss glaze available for $2). You get to finish and take home your piece all in one session! \nWe have something everyone in the family. Plan to come in at least 2 hours before closing to have plenty of time for paints and glazes to dry. \nFeel free bring some snacks and beverages and get ready to paint and have fun in a relaxing\, safe environment.
URL:https://generationsbrewer.com/event/walk-in-ceramics-open-studio-2-2-2-2-2-2-2-2-2-2-2-3-2-2-2-2-2-2-2/2026-08-21/
LOCATION:Generations Boutique & Art Studio\, 153 State St.\, Brewer\, ME\, 04412\, United States
ATTACH;FMTTYPE=image/jpeg:https://generationsbrewer.com/wp-content/uploads/2024/04/image0-1.jpeg
ORGANIZER;CN="Generations Boutique & Art Studio":MAILTO:generations04412@gmail.com
END:VEVENT
BEGIN:VEVENT
DTSTART;TZID=America/Chicago:20260825T110000
DTEND;TZID=America/Chicago:20260825T170000
DTSTAMP:20260421T225000
CREATED:20260406T194308Z
LAST-MODIFIED:20260406T194308Z
UID:10003443-1787655600-1787677200@generationsbrewer.com
SUMMARY:Walk In Ceramics Open Studio
DESCRIPTION:Come on in for Ceramics Open Studio from 11-5. You can paint ANY ceramic we have in stock. No tickets needed for this event\, just pop in! Every Tuesday through Friday. \nCeramic prices average $10 and up. The price includes studio time\, paints\, supplies and basic Mod Podge for sealing (High Gloss glaze available for $2). You get to finish and take home your piece all in one session! \nWe have something everyone in the family. Plan to come in at least 2 hours before closing to have plenty of time for paints and glazes to dry. \nFeel free bring some snacks and beverages and get ready to paint and have fun in a relaxing\, safe environment.
URL:https://generationsbrewer.com/event/walk-in-ceramics-open-studio-2-2-2-2-2-2-2-2-2-2-2-3-2-2-2-2-2-2-2/2026-08-25/
LOCATION:Generations Boutique & Art Studio\, 153 State St.\, Brewer\, ME\, 04412\, United States
ATTACH;FMTTYPE=image/jpeg:https://generationsbrewer.com/wp-content/uploads/2024/04/image0-1.jpeg
ORGANIZER;CN="Generations Boutique & Art Studio":MAILTO:generations04412@gmail.com
END:VEVENT
BEGIN:VEVENT
DTSTART;TZID=America/Chicago:20260826T110000
DTEND;TZID=America/Chicago:20260826T170000
DTSTAMP:20260421T225000
CREATED:20260406T194308Z
LAST-MODIFIED:20260406T194308Z
UID:10003444-1787742000-1787763600@generationsbrewer.com
SUMMARY:Walk In Ceramics Open Studio
DESCRIPTION:Come on in for Ceramics Open Studio from 11-5. You can paint ANY ceramic we have in stock. No tickets needed for this event\, just pop in! Every Tuesday through Friday. \nCeramic prices average $10 and up. The price includes studio time\, paints\, supplies and basic Mod Podge for sealing (High Gloss glaze available for $2). You get to finish and take home your piece all in one session! \nWe have something everyone in the family. Plan to come in at least 2 hours before closing to have plenty of time for paints and glazes to dry. \nFeel free bring some snacks and beverages and get ready to paint and have fun in a relaxing\, safe environment.
URL:https://generationsbrewer.com/event/walk-in-ceramics-open-studio-2-2-2-2-2-2-2-2-2-2-2-3-2-2-2-2-2-2-2/2026-08-26/
LOCATION:Generations Boutique & Art Studio\, 153 State St.\, Brewer\, ME\, 04412\, United States
ATTACH;FMTTYPE=image/jpeg:https://generationsbrewer.com/wp-content/uploads/2024/04/image0-1.jpeg
ORGANIZER;CN="Generations Boutique & Art Studio":MAILTO:generations04412@gmail.com
END:VEVENT
BEGIN:VEVENT
DTSTART;TZID=America/Chicago:20260827T110000
DTEND;TZID=America/Chicago:20260827T170000
DTSTAMP:20260421T225000
CREATED:20260406T194308Z
LAST-MODIFIED:20260406T194308Z
UID:10003445-1787828400-1787850000@generationsbrewer.com
SUMMARY:Walk In Ceramics Open Studio
DESCRIPTION:Come on in for Ceramics Open Studio from 11-5. You can paint ANY ceramic we have in stock. No tickets needed for this event\, just pop in! Every Tuesday through Friday. \nCeramic prices average $10 and up. The price includes studio time\, paints\, supplies and basic Mod Podge for sealing (High Gloss glaze available for $2). You get to finish and take home your piece all in one session! \nWe have something everyone in the family. Plan to come in at least 2 hours before closing to have plenty of time for paints and glazes to dry. \nFeel free bring some snacks and beverages and get ready to paint and have fun in a relaxing\, safe environment.
URL:https://generationsbrewer.com/event/walk-in-ceramics-open-studio-2-2-2-2-2-2-2-2-2-2-2-3-2-2-2-2-2-2-2/2026-08-27/
LOCATION:Generations Boutique & Art Studio\, 153 State St.\, Brewer\, ME\, 04412\, United States
ATTACH;FMTTYPE=image/jpeg:https://generationsbrewer.com/wp-content/uploads/2024/04/image0-1.jpeg
ORGANIZER;CN="Generations Boutique & Art Studio":MAILTO:generations04412@gmail.com
END:VEVENT
BEGIN:VEVENT
DTSTART;TZID=America/Chicago:20260828T110000
DTEND;TZID=America/Chicago:20260828T170000
DTSTAMP:20260421T225000
CREATED:20260406T194308Z
LAST-MODIFIED:20260406T194308Z
UID:10003446-1787914800-1787936400@generationsbrewer.com
SUMMARY:Walk In Ceramics Open Studio
DESCRIPTION:Come on in for Ceramics Open Studio from 11-5. You can paint ANY ceramic we have in stock. No tickets needed for this event\, just pop in! Every Tuesday through Friday. \nCeramic prices average $10 and up. The price includes studio time\, paints\, supplies and basic Mod Podge for sealing (High Gloss glaze available for $2). You get to finish and take home your piece all in one session! \nWe have something everyone in the family. Plan to come in at least 2 hours before closing to have plenty of time for paints and glazes to dry. \nFeel free bring some snacks and beverages and get ready to paint and have fun in a relaxing\, safe environment.
URL:https://generationsbrewer.com/event/walk-in-ceramics-open-studio-2-2-2-2-2-2-2-2-2-2-2-3-2-2-2-2-2-2-2/2026-08-28/
LOCATION:Generations Boutique & Art Studio\, 153 State St.\, Brewer\, ME\, 04412\, United States
ATTACH;FMTTYPE=image/jpeg:https://generationsbrewer.com/wp-content/uploads/2024/04/image0-1.jpeg
ORGANIZER;CN="Generations Boutique & Art Studio":MAILTO:generations04412@gmail.com
END:VEVENT
END:VCALENDAR