BEGIN:VCALENDAR
VERSION:2.0
PRODID:-//Generations Boutique &amp; Art Studio - ECPv6.15.17//NONSGML v1.0//EN
CALSCALE:GREGORIAN
METHOD:PUBLISH
X-WR-CALNAME:Generations Boutique &amp; Art Studio
X-ORIGINAL-URL:https://generationsbrewer.com
X-WR-CALDESC:Events for Generations Boutique &amp; Art Studio
REFRESH-INTERVAL;VALUE=DURATION:PT1H
X-Robots-Tag:noindex
X-PUBLISHED-TTL:PT1H
BEGIN:VTIMEZONE
TZID:America/Chicago
BEGIN:DAYLIGHT
TZOFFSETFROM:-0600
TZOFFSETTO:-0500
TZNAME:CDT
DTSTART:20250309T080000
END:DAYLIGHT
BEGIN:STANDARD
TZOFFSETFROM:-0500
TZOFFSETTO:-0600
TZNAME:CST
DTSTART:20251102T070000
END:STANDARD
BEGIN:DAYLIGHT
TZOFFSETFROM:-0600
TZOFFSETTO:-0500
TZNAME:CDT
DTSTART:20260308T080000
END:DAYLIGHT
BEGIN:STANDARD
TZOFFSETFROM:-0500
TZOFFSETTO:-0600
TZNAME:CST
DTSTART:20261101T070000
END:STANDARD
BEGIN:DAYLIGHT
TZOFFSETFROM:-0600
TZOFFSETTO:-0500
TZNAME:CDT
DTSTART:20270314T080000
END:DAYLIGHT
BEGIN:STANDARD
TZOFFSETFROM:-0500
TZOFFSETTO:-0600
TZNAME:CST
DTSTART:20271107T070000
END:STANDARD
END:VTIMEZONE
BEGIN:VEVENT
DTSTART;TZID=America/Chicago:20260422T110000
DTEND;TZID=America/Chicago:20260422T140000
DTSTAMP:20260422T015933
CREATED:20260406T200206Z
LAST-MODIFIED:20260415T132055Z
UID:10004639-1776855600-1776866400@generationsbrewer.com
SUMMARY:April Vacation Pottery Painting Sessions
DESCRIPTION:You are registering for the School Vacation Ceramics Session Choose Your Date and Choose Your Time \nBook Now\nSessions go Monday through Friday from 11:00 to 2:00 or 2:00 to 5:00 and Saturday 10-12:30 or 12:30-3:00 \nThis is your place holder. Deposit of $5 per person will be applied toward your ceramic piece (pieces start at $5) If you choose a ceramic that’s more than $5\, you can pay the difference when you come in! \nPrices include studio time\, paints\, supplies and basic Mod Podge for sealing (High Gloss glaze available for $2). You get to finish and take home your piece all in one session! \nBuy a ticket for everyone in the family\, bring some snacks or order take-out or delivery and enjoy 2 hours of painting and fun in a relaxing\, safe environment. \nCancellation Policy: \nIf you have booked tickets to our in-studio event and cancel more than 24 hours before the event\, you may request a refund or credit towards a future class. If you cancel on the day of the event\, you can pick up a take home kit\, we will set your gnome tree aside for you and you can choose paint colors when you come in to pick up.
URL:https://generationsbrewer.com/event/april-vacation-pottery-painting-sessions/2026-04-22/1/
LOCATION:Generations Boutique & Art Studio\, 153 State St.\, Brewer\, ME\, 04412\, United States
ATTACH;FMTTYPE=image/jpeg:https://generationsbrewer.com/wp-content/uploads/2026/02/5612746901.jpg
ORGANIZER;CN="Generations Boutique & Art Studio":MAILTO:generations04412@gmail.com
END:VEVENT
BEGIN:VEVENT
DTSTART;TZID=America/Chicago:20260422T140000
DTEND;TZID=America/Chicago:20260422T170000
DTSTAMP:20260422T015933
CREATED:20260406T200206Z
LAST-MODIFIED:20260415T132055Z
UID:10004640-1776866400-1776877200@generationsbrewer.com
SUMMARY:April Vacation Pottery Painting Sessions
DESCRIPTION:You are registering for the School Vacation Ceramics Session Choose Your Date and Choose Your Time \nBook Now\nSessions go Monday through Friday from 11:00 to 2:00 or 2:00 to 5:00 and Saturday 10-12:30 or 12:30-3:00 \nThis is your place holder. Deposit of $5 per person will be applied toward your ceramic piece (pieces start at $5) If you choose a ceramic that’s more than $5\, you can pay the difference when you come in! \nPrices include studio time\, paints\, supplies and basic Mod Podge for sealing (High Gloss glaze available for $2). You get to finish and take home your piece all in one session! \nBuy a ticket for everyone in the family\, bring some snacks or order take-out or delivery and enjoy 2 hours of painting and fun in a relaxing\, safe environment. \nCancellation Policy: \nIf you have booked tickets to our in-studio event and cancel more than 24 hours before the event\, you may request a refund or credit towards a future class. If you cancel on the day of the event\, you can pick up a take home kit\, we will set your gnome tree aside for you and you can choose paint colors when you come in to pick up.
URL:https://generationsbrewer.com/event/april-vacation-pottery-painting-sessions/2026-04-22/2/
LOCATION:Generations Boutique & Art Studio\, 153 State St.\, Brewer\, ME\, 04412\, United States
ATTACH;FMTTYPE=image/jpeg:https://generationsbrewer.com/wp-content/uploads/2026/02/5612746901.jpg
ORGANIZER;CN="Generations Boutique & Art Studio":MAILTO:generations04412@gmail.com
END:VEVENT
BEGIN:VEVENT
DTSTART;TZID=America/Chicago:20260422T173000
DTEND;TZID=America/Chicago:20260422T190000
DTSTAMP:20260422T015933
CREATED:20260327T172826Z
LAST-MODIFIED:20260327T172826Z
UID:10004600-1776879000-1776884400@generationsbrewer.com
SUMMARY:Sea Glass Resin Frame\, Tumbler\, Wine Glass or Serving Board April 22nd
DESCRIPTION:Sea Glass Resin Frame\, Tumbler\, Wine Glass or Serving Board on April 22nd at 5:30pm \nBook Now\nSign up for the Sea Glass Resin Frame $39.95\, Choose the Tumbler or Wine Glass $27.95 or Serving Board $44.95 and we will walk you through the steps of creating your own resin art using your own beach treasures or help yourself to our “Beach Buffet”. We will use food save resin for the serving board. The frame will take overnight to harden and cups will spin on a cup spinner all night long and will need to be picked up the next business day. (or within a week of completion) \nHave a $15 charcuterie mini box delivered! We are partnering with Downtown Charcuterie. If you add to your ticket at least 24 hours before the class\, we will notify Downtown Charcuterie and your mini box will be dropped off at our studio just before class begins. *will contain nuts\, dairy\, gluten and meats\, for special dietary needs order directly from their website. \nIMPORTANT CLASS INFORMATION: \n***Resin takes overnight to harden\, so you will have to plan on picking up your finished piece on our next business day\n****PLEASE REVIEW THE Product Safety Statement BELOW \nUnicone Art uncured resin isn’t toxic\, it is hazardous and it may give you an allergic reaction but it is not toxic. The un-cured resin can irritate your skin and with repeated use\, can sensitize your skin\, which in some people\, can give allergic dermatitis. Limited skin contact is recommended. we do use gloves and ventilate the studio by leaving the door open during class. Furthermore\, many curatives have a powerful odor\, however Unicone resin has only a low odor and is applicator friendly. If you are highly sensitive to chemical odors this class may not be right for you. If you have concerns over the safety of the resin product we use in the studio\, we recommend you research the brand Unicone Art Resin and make your best judgement on whether this class or product is right for you. You must confirm that you have read this statement and waive Generations of product liability. \nCANCELLATION POLICY Cancellations at least 24 hours before the event you can receive a refund or a class credit. Cancellations within 24 hours of the event you can receive a class credit. No-Shows\, no credits or refunds. \nFOOD AND DRINK We are a BYOB studio. 21 and over to consume alcohol. We carry soft drinks and snacks for purchase\, or you are welcome to bring your own. We have cups\, plates\, plastic ware and bottle openers for your convenience.
URL:https://generationsbrewer.com/event/sea-glass-resin-frame-tumbler-wine-glass-or-serving-board-april-22nd/
LOCATION:Generations Boutique & Art Studio\, 153 State St.\, Brewer\, ME\, 04412\, United States
ATTACH;FMTTYPE=image/jpeg:https://generationsbrewer.com/wp-content/uploads/2026/03/5675831722.jpg
ORGANIZER;CN="Generations Boutique & Art Studio":MAILTO:generations04412@gmail.com
END:VEVENT
END:VCALENDAR